BEGIN:VCALENDAR
VERSION:2.0
PRODID:-//Timebank Application - ECPv6.8.2//NONSGML v1.0//EN
CALSCALE:GREGORIAN
METHOD:PUBLISH
X-ORIGINAL-URL:https://timebankapp.app
X-WR-CALDESC:กิจกรรมสำหรับ Timebank Application
REFRESH-INTERVAL;VALUE=DURATION:PT1H
X-Robots-Tag:noindex
X-PUBLISHED-TTL:PT1H
BEGIN:VTIMEZONE
TZID:Asia/Krasnoyarsk
BEGIN:STANDARD
TZOFFSETFROM:+0700
TZOFFSETTO:+0700
TZNAME:+07
DTSTART:20260101T000000
END:STANDARD
END:VTIMEZONE
BEGIN:VEVENT
DTSTART;TZID=Asia/Krasnoyarsk:20260420T223100
DTEND;TZID=Asia/Krasnoyarsk:20260630T223100
DTSTAMP:20260425T201842
CREATED:20260421T151459Z
LAST-MODIFIED:20260421T151459Z
UID:9590-1776724260-1782858660@timebankapp.app
SUMMARY:สัมมนา เพิ่มพลังชีวิต
DESCRIPTION:📋 Copy Link\n    \n    \n     \nต้องการอาสาสมัครสนับสนุนงานสัมมนา\nผู้ควบคุมโปรแกรม\nนักดนตรีนักร้องทีมสนับสนุนเครื่องดนตรี\nที่มีเดียอุปกรณ์ตากล้อง\nผู้ควบคุมการทำผู้ควบคุมการทำกิจกรรมกลุ่มย่อย
URL:https://timebankapp.app/event/%e0%b8%aa%e0%b8%b1%e0%b8%a1%e0%b8%a1%e0%b8%99%e0%b8%b2-%e0%b9%80%e0%b8%9e%e0%b8%b4%e0%b9%88%e0%b8%a1%e0%b8%9e%e0%b8%a5%e0%b8%b1%e0%b8%87%e0%b8%8a%e0%b8%b5%e0%b8%a7%e0%b8%b4%e0%b8%95/
CATEGORIES:กิจกรรมอื่นๆ
ATTACH;FMTTYPE=image/jpeg:https://timebankapp.app/wp-content/uploads/2026/04/งานจิตอาสา-2.jpeg
END:VEVENT
BEGIN:VEVENT
DTSTART;TZID=Asia/Krasnoyarsk:20260426T100000
DTEND;TZID=Asia/Krasnoyarsk:20260523T100000
DTSTAMP:20260425T201842
CREATED:20260425T114856Z
LAST-MODIFIED:20260425T114856Z
UID:9613-1777197600-1779530400@timebankapp.app
SUMMARY:ครูจิตอาสา
DESCRIPTION:📋 Copy Link\n    \n    \n     \nรับสมัคร 1 ท่าน กิจกรรม สอน /ทำกิจกรรม/เสริมสร้างทักษะ เด็ก. มีศักดิ์ศรี ณ.ศูนย์เรียนรู้เซกา จ.บึงกาฬ.
URL:https://timebankapp.app/event/%e0%b8%84%e0%b8%a3%e0%b8%b9%e0%b8%88%e0%b8%b4%e0%b8%95%e0%b8%ad%e0%b8%b2%e0%b8%aa%e0%b8%b2/
CATEGORIES:เด็ก เยาวชน สตรี
ATTACH;FMTTYPE=image/jpeg:https://timebankapp.app/wp-content/uploads/2026/04/1776932620302.jpg
END:VEVENT
BEGIN:VEVENT
DTSTART;TZID=Asia/Krasnoyarsk:20260501T100000
DTEND;TZID=Asia/Krasnoyarsk:20261230T133000
DTSTAMP:20260425T201842
CREATED:20260425T114811Z
LAST-MODIFIED:20260425T114811Z
UID:9619-1777629600-1798637400@timebankapp.app
SUMMARY:จิตอาสาดูแลผู้สูงอายุ
DESCRIPTION:📋 Copy Link\n    \n    \n     \nเชิญชวน ผู้ที่มีใจรักงานด้านฟื้นฟูจิตใจผู้สูงอายุ ร่วมพูดคุยแบ่งปันข้อคิดในการใช้ชีวิตในช่วงสูงวัยอย่างมีคุณค่า และทำกิจกรรมสันทนาการร่วมกัน มาร่วมส่งผ่านความรัก ความหวัง และกำลังใจไปด้วยกัน เพื่อขับเคลื่อนผู้สูงอายุให้มีประสิทธิภาพทุกด้าน ใช้ชีวิตอย่างมีความสุข มีจิตใจที่ชื่นชมยินดี มีสุขภาพที่แข็งแรง
URL:https://timebankapp.app/event/%e0%b8%88%e0%b8%b4%e0%b8%95%e0%b8%ad%e0%b8%b2%e0%b8%aa%e0%b8%b2%e0%b8%94%e0%b8%b9%e0%b9%81%e0%b8%a5%e0%b8%9c%e0%b8%b9%e0%b9%89%e0%b8%aa%e0%b8%b9%e0%b8%87%e0%b8%ad%e0%b8%b2%e0%b8%a2%e0%b8%b8/
CATEGORIES:ผู้พิการ ผู้ด้อยโอกาส ผู้สูงอายุ
ATTACH;FMTTYPE=image/png:https://timebankapp.app/wp-content/uploads/2026/04/1000041545.png
END:VEVENT
BEGIN:VEVENT
DTSTART;TZID=Asia/Krasnoyarsk:20260501T100000
DTEND;TZID=Asia/Krasnoyarsk:20261230T180000
DTSTAMP:20260425T201842
CREATED:20260425T114723Z
LAST-MODIFIED:20260425T114723Z
UID:9617-1777629600-1798653600@timebankapp.app
SUMMARY:จิตอาสาและทำความสะอาด
DESCRIPTION:📋 Copy Link\n    \n    \n     \nเชิญชวน ผู้ที่มีใจรักงานบริการ งานด้านทำความสะอาด ศูนย์พัฒนาการเรียนรู้เด็กและเยาวชน มาเป็นส่วนหนึ่งในการทำความสะอาดภายในและภายนอกอาคาร จัดเตรียมห้องเรียนไว้สำหรับเด็กและเยาวชนเพื่อสร้างความสุข และรอยยิ้ม ให้บรรยากาศในการเรียนรู้ในห้องเรียนเป็นไปอย่างมีความสุข
URL:https://timebankapp.app/event/%e0%b8%88%e0%b8%b4%e0%b8%95%e0%b8%ad%e0%b8%b2%e0%b8%aa%e0%b8%b2%e0%b9%81%e0%b8%a5%e0%b8%b0%e0%b8%97%e0%b8%b3%e0%b8%84%e0%b8%a7%e0%b8%b2%e0%b8%a1%e0%b8%aa%e0%b8%b0%e0%b8%ad%e0%b8%b2%e0%b8%94/
CATEGORIES:ธรรมชาติ สิ่งแวดล้อม
ATTACH;FMTTYPE=image/png:https://timebankapp.app/wp-content/uploads/2026/04/1000041542.png
END:VEVENT
BEGIN:VEVENT
DTSTART;TZID=Asia/Krasnoyarsk:20260501T103000
DTEND;TZID=Asia/Krasnoyarsk:20261230T130000
DTSTAMP:20260425T201842
CREATED:20260425T114625Z
LAST-MODIFIED:20260425T114625Z
UID:9615-1777631400-1798635600@timebankapp.app
SUMMARY:รับสมัครครูจิตอาสา
DESCRIPTION:📋 Copy Link\n    \n    \n     \nเขิญชวนคุณครูที่มีใจรักทำงานจิตอาสาด้านการให้ความรู้ ทำกลุ่มสันทนาการ กับเด็กๆและเยาวชน เข้ามามีส่วนร่วมในการแบ่งปันครั้งนี้ด้วยกันนะคะ
URL:https://timebankapp.app/event/%e0%b8%a3%e0%b8%b1%e0%b8%9a%e0%b8%aa%e0%b8%a1%e0%b8%b1%e0%b8%84%e0%b8%a3%e0%b8%84%e0%b8%a3%e0%b8%b9%e0%b8%88%e0%b8%b4%e0%b8%95%e0%b8%ad%e0%b8%b2%e0%b8%aa%e0%b8%b2/
CATEGORIES:การศึกษา เรียนรู้ ฝึกอบรม
ATTACH;FMTTYPE=image/png:https://timebankapp.app/wp-content/uploads/2026/04/1000041452.png
END:VEVENT
BEGIN:VEVENT
DTSTART;TZID=Asia/Krasnoyarsk:20260504T130000
DTEND;TZID=Asia/Krasnoyarsk:20260504T150000
DTSTAMP:20260425T201842
CREATED:20260416T095832Z
LAST-MODIFIED:20260416T095832Z
UID:9520-1777899600-1777906800@timebankapp.app
SUMMARY:พี่พาน้อง...ตะลุยโลกกว้าง เรียนรู้ชีวิตสัตว์ป่า
DESCRIPTION:📋 Copy Link\n    \n    \n     \nรับสมัครจิตอาสา ดูแลเด็กๆวัยทีน ที่เจ้าร่วมกิจกรรม ณ สวนสัตว์สงขลา
URL:https://timebankapp.app/event/%e0%b8%9e%e0%b8%b5%e0%b9%88%e0%b8%9e%e0%b8%b2%e0%b8%99%e0%b9%89%e0%b8%ad%e0%b8%87-%e0%b8%95%e0%b8%b0%e0%b8%a5%e0%b8%b8%e0%b8%a2%e0%b9%82%e0%b8%a5%e0%b8%81%e0%b8%81%e0%b8%a7%e0%b9%89%e0%b8%b2/
CATEGORIES:การศึกษา เรียนรู้ ฝึกอบรม,ธรรมชาติ สิ่งแวดล้อม,เด็ก เยาวชน สตรี
ATTACH;FMTTYPE=image/jpeg:https://timebankapp.app/wp-content/uploads/2026/04/IMG_5754.jpeg
END:VEVENT
BEGIN:VEVENT
DTSTART;TZID=Asia/Krasnoyarsk:20260509T083000
DTEND;TZID=Asia/Krasnoyarsk:20260509T160000
DTSTAMP:20260425T201842
CREATED:20260409T160242Z
LAST-MODIFIED:20260409T160242Z
UID:9444-1778315400-1778342400@timebankapp.app
SUMMARY:เปิดรับสมัคร “นักกฎหมายจิตอาสา” Legal Volunteer Movement 2026
DESCRIPTION:📋 Copy Link\n    \n    \n     \nนิติอาสาทำ\nเปิดรับสมัคร “นักกฎหมายจิตอาสา”\nLegal Volunteer Movement 2026 \nนี่คือพื้นที่ของคุณ…\nในการ “ใช้วิชาหมาย” เพื่อช่วยเหลือผู้คนจริง เปิดโอกาสให้คุณได้ \n-ให้คำปรึกษากฎหมายแก่ประชาชน\n-สร้างประสบการณ์จริงนอกห้องทำงาน\n-เป็นส่วนหนึ่งของเครือข่ายนักกฎหมายจิตอาสา \nโดยการจัดกิจกรรม ให้ความรู้ด้านกฎหมายเข้าใจง่าย ใช้ได้จริง แก่ประชาชน \nที่ณ สโมสร เสนาฯ 1 ศูนย์ไกล่เกลี่ยข้อพิพาทภาคประชาชน แขวงลาดพร้าว(05) – นาคนิวาส42แยก1\nวันเสาร์ ที่ 9 พฤษภาคม 2569 เวลา 8.30-17.00 น. \nภายในงาน\n-อาหาร กาแฟ น้ำดื่ม บริการ\n-การเป็นผู้ให้คำปรึกษาด้านกฎหมาย\n(เข้าร่วมฟรี ไม่มีค่าใช้จ่าย) \n📞 ติดต่อสอบถาม / เข้าร่วมกิจกรรม คุณนิ่ม 096-114-8397 \n💬 เพราะกฎหมาย…ไม่ควรเป็นเรื่องไกลตัว\nและ “ความยุติธรรม” จะเกิดขึ้นได้\nเมื่อมีคนลุกขึ้นมา “ลงมือทำ” \n#นิติอาสาทำ #นักกฎหมายจิตอาสา #กฎหมายเพื่อสังคม #ให้ความรู้สู่ประชาชน
URL:https://timebankapp.app/event/%e0%b9%80%e0%b8%9b%e0%b8%b4%e0%b8%94%e0%b8%a3%e0%b8%b1%e0%b8%9a%e0%b8%aa%e0%b8%a1%e0%b8%b1%e0%b8%84%e0%b8%a3-%e0%b8%99%e0%b8%b1%e0%b8%81%e0%b8%81%e0%b8%8e%e0%b8%ab%e0%b8%a1%e0%b8%b2%e0%b8%a2/
CATEGORIES:การศึกษา เรียนรู้ ฝึกอบรม,ผู้พิการ ผู้ด้อยโอกาส ผู้สูงอายุ,เด็ก เยาวชน สตรี
ATTACH;FMTTYPE=image/png:https://timebankapp.app/wp-content/uploads/2026/04/นักกฎหมายจิตอาสา.png
END:VEVENT
BEGIN:VEVENT
DTSTART;TZID=Asia/Krasnoyarsk:20260530T100000
DTEND;TZID=Asia/Krasnoyarsk:20260530T150000
DTSTAMP:20260425T201842
CREATED:20260416T095836Z
LAST-MODIFIED:20260416T095836Z
UID:9522-1780135200-1780153200@timebankapp.app
SUMMARY:Hero Kids Camp
DESCRIPTION:📋 Copy Link\n    \n    \n     \nรับสมัครจิตอาสา ดูแลเด็กๆชาวเกาะหลีเป๊ะ ที่มาร่วมกิจกรรม
URL:https://timebankapp.app/event/hero-kids-camp/
CATEGORIES:การศึกษา เรียนรู้ ฝึกอบรม,ธรรมชาติ สิ่งแวดล้อม,เด็ก เยาวชน สตรี
ATTACH;FMTTYPE=image/jpeg:https://timebankapp.app/wp-content/uploads/2026/04/IMG_5755.jpeg
END:VEVENT
BEGIN:VEVENT
DTSTART;TZID=Asia/Krasnoyarsk:20260613T093700
DTEND;TZID=Asia/Krasnoyarsk:20260623T093800
DTSTAMP:20260425T201842
CREATED:20260302T145923Z
LAST-MODIFIED:20260302T145923Z
UID:8525-1781343420-1782207480@timebankapp.app
SUMMARY:ขับรถรับส่งแขกต่างประเทศ
DESCRIPTION:📋 Copy Link\n    \n    \n     \nขับรถ รับ-ส่งแขกต่างประเทศ จากสนามบินไปโรงแรมที่พัก หรือจัดงานสัมมนา
URL:https://timebankapp.app/event/%e0%b8%82%e0%b8%b1%e0%b8%9a%e0%b8%a3%e0%b8%96%e0%b8%a3%e0%b8%b1%e0%b8%9a%e0%b8%aa%e0%b9%88%e0%b8%87%e0%b9%81%e0%b8%82%e0%b8%81%e0%b8%95%e0%b9%88%e0%b8%b2%e0%b8%87%e0%b8%9b%e0%b8%a3%e0%b8%b0%e0%b9%80/
CATEGORIES:กิจกรรมอื่นๆ
ATTACH;FMTTYPE=image/png:https://timebankapp.app/wp-content/uploads/2026/03/ขับรถรับส่งแขก-ตปท-1-scaled.png
END:VEVENT
END:VCALENDAR