BEGIN:VCALENDAR
VERSION:2.0
PRODID:-//Timebank Application - ECPv6.8.2//NONSGML v1.0//EN
CALSCALE:GREGORIAN
METHOD:PUBLISH
X-ORIGINAL-URL:https://timebankapp.app
X-WR-CALDESC:กิจกรรมสำหรับ Timebank Application
REFRESH-INTERVAL;VALUE=DURATION:PT1H
X-Robots-Tag:noindex
X-PUBLISHED-TTL:PT1H
BEGIN:VTIMEZONE
TZID:Asia/Krasnoyarsk
BEGIN:STANDARD
TZOFFSETFROM:+0700
TZOFFSETTO:+0700
TZNAME:+07
DTSTART:20250101T000000
END:STANDARD
END:VTIMEZONE
BEGIN:VEVENT
DTSTART;TZID=Asia/Krasnoyarsk:20251107T080000
DTEND;TZID=Asia/Krasnoyarsk:20251107T190000
DTSTAMP:20260425T191326
CREATED:20251102T153759Z
LAST-MODIFIED:20251102T153759Z
UID:7006-1762502400-1762542000@timebankapp.app
SUMMARY:ข้บรถ รับ-ส่ง พระร่วมกิจกรรมสถาบัน
DESCRIPTION:📋 Copy Link\n    \n    \n     \nข้บรถ รับ-ส่ง พระร่วมกิจกรรมสถาบัน สถานที่ที่นัดหมายพระไปส่ง เช่น สถาบัน รถไฟฟ้า หรือ วัด / เพื่อช่วยบริการพระในการเข้าร่วมกิจกรรมที่เป็นประโยชน์ต่อสังคม
URL:https://timebankapp.app/event/%e0%b8%82%e0%b9%89%e0%b8%9a%e0%b8%a3%e0%b8%96-%e0%b8%a3%e0%b8%b1%e0%b8%9a-%e0%b8%aa%e0%b9%88%e0%b8%87-%e0%b8%9e%e0%b8%a3%e0%b8%b0%e0%b8%a3%e0%b9%88%e0%b8%a7%e0%b8%a1%e0%b8%81%e0%b8%b4%e0%b8%88-2/2025-11-07/
LOCATION:อำเภอบาพลี สมุทรปราการ
CATEGORIES:ศาสนา ปฎิบัติธรรม,สำหรับสมาชิกทั่วไป
ATTACH;FMTTYPE=image/png:https://timebankapp.app/wp-content/uploads/2025/11/timebank-พระสร้างชาติ-กองทุนเวลา-2.png
END:VEVENT
END:VCALENDAR