BEGIN:VCALENDAR
VERSION:2.0
PRODID:-//Timebank Application - ECPv6.8.2//NONSGML v1.0//EN
CALSCALE:GREGORIAN
METHOD:PUBLISH
X-WR-CALNAME:Timebank Application
X-ORIGINAL-URL:https://timebankapp.app
X-WR-CALDESC:กิจกรรมสำหรับ Timebank Application
REFRESH-INTERVAL;VALUE=DURATION:PT1H
X-Robots-Tag:noindex
X-PUBLISHED-TTL:PT1H
BEGIN:VTIMEZONE
TZID:Asia/Krasnoyarsk
BEGIN:STANDARD
TZOFFSETFROM:+0700
TZOFFSETTO:+0700
TZNAME:+07
DTSTART:20260101T000000
END:STANDARD
END:VTIMEZONE
BEGIN:VEVENT
DTSTART;TZID=Asia/Krasnoyarsk:20260419T110000
DTEND;TZID=Asia/Krasnoyarsk:20260419T130000
DTSTAMP:20260425T173733
CREATED:20260329T141635Z
LAST-MODIFIED:20260329T141635Z
UID:9226-1776596400-1776603600@timebankapp.app
SUMMARY:ดนตรีจิตอาสา
DESCRIPTION:📋 Copy Link\n    \n    \n     \nร่วมร้องเพลงบำบัดความเครียด กินอาหารครบ 5 หมู่ ส่งผลให้สุขภาพแข็งแรง
URL:https://timebankapp.app/event/%e0%b8%94%e0%b8%99%e0%b8%95%e0%b8%a3%e0%b8%b5%e0%b8%88%e0%b8%b4%e0%b8%95%e0%b8%ad%e0%b8%b2%e0%b8%aa%e0%b8%b2-2/
CATEGORIES:กิจกรรมอื่นๆ
ATTACH;FMTTYPE=image/jpeg:https://timebankapp.app/wp-content/uploads/2026/03/1000026065.jpg
END:VEVENT
BEGIN:VEVENT
DTSTART;TZID=Asia/Krasnoyarsk:20260417T160000
DTEND;TZID=Asia/Krasnoyarsk:20260417T180000
DTSTAMP:20260425T173733
CREATED:20260415T015410Z
LAST-MODIFIED:20260415T015410Z
UID:9495-1776441600-1776448800@timebankapp.app
SUMMARY:จิบน้ำชา ปันความรู้สู่ชุมชน
DESCRIPTION:📋 Copy Link\n    \n    \n     \nรับสมัครจิตอาสา มาแบ่งปันความรู้ประสบการณ์ด้านต่างๆ ให้กับคนรุ่นหลัง
URL:https://timebankapp.app/event/%e0%b8%88%e0%b8%b4%e0%b8%9a%e0%b8%99%e0%b9%89%e0%b8%b3%e0%b8%8a%e0%b8%b2-%e0%b8%9b%e0%b8%b1%e0%b8%99%e0%b8%84%e0%b8%a7%e0%b8%b2%e0%b8%a1%e0%b8%a3%e0%b8%b9%e0%b9%89%e0%b8%aa%e0%b8%b9%e0%b9%88%e0%b8%8a/
CATEGORIES:การศึกษา เรียนรู้ ฝึกอบรม,กิจกรรมอื่นๆ,ผู้พิการ ผู้ด้อยโอกาส ผู้สูงอายุ,เด็ก เยาวชน สตรี
ATTACH;FMTTYPE=image/jpeg:https://timebankapp.app/wp-content/uploads/2026/04/1000000683.jpg
END:VEVENT
BEGIN:VEVENT
DTSTART;TZID=Asia/Krasnoyarsk:20260415T130000
DTEND;TZID=Asia/Krasnoyarsk:20260415T160000
DTSTAMP:20260425T173733
CREATED:20260408T121327Z
LAST-MODIFIED:20260408T121327Z
UID:9400-1776258000-1776268800@timebankapp.app
SUMMARY:โครงการ ปันน้ำใจ ให้น้อง
DESCRIPTION:📋 Copy Link\n    \n    \n     \nรับสมัครจิตอาสาแจกสิ่งของให้กับหมู่บ้านซาไก (เผ่ามานิ)
URL:https://timebankapp.app/event/%e0%b9%82%e0%b8%84%e0%b8%a3%e0%b8%87%e0%b8%81%e0%b8%b2%e0%b8%a3-%e0%b8%9b%e0%b8%b1%e0%b8%99%e0%b8%99%e0%b9%89%e0%b8%b3%e0%b9%83%e0%b8%88-%e0%b9%83%e0%b8%ab%e0%b9%89%e0%b8%99%e0%b9%89%e0%b8%ad%e0%b8%87/
CATEGORIES:กิจกรรมอื่นๆ,เด็ก เยาวชน สตรี
ATTACH;FMTTYPE=image/png:https://timebankapp.app/wp-content/uploads/2026/04/ใบปลิว-กิจกรรม-อาสา-พาสเทล-น่ารัก-สีเขียว-สีสัน-A4.png
END:VEVENT
BEGIN:VEVENT
DTSTART;TZID=Asia/Krasnoyarsk:20260401T093000
DTEND;TZID=Asia/Krasnoyarsk:20260430T160000
DTSTAMP:20260425T173733
CREATED:20260409T160959Z
LAST-MODIFIED:20260409T160959Z
UID:9442-1775035800-1777564800@timebankapp.app
SUMMARY:อาสาเก็บขยะคลอง — คลองบางมดสะอาด
DESCRIPTION:📋 Copy Link\n    \n    \n     \nประเภท: กิจกรรม (จัดประจำ)\nรายละเอียด: ร่วมเก็บขยะในคลองบางมดกับชุมชนและวัดบัวผัน สร้างคลองสะอาดที่ทุกคนอยู่ได้ เวลา: ครั้งละ 3–4 ชั่วโมง | เช้าวันอาทิตย์ เดือนละ 2 ครั้ง\nคุณได้อะไร:\n“บางทีสิ่งที่ชาร์จพลังชีวิตได้ดีที่สุด ไม่ใช่การพัก แต่คือการ ‘ทำอะไรบางอย่างที่มีความหมาย’ ร่วมกับคนอื่น — แค่เช้าเดียว คุณจะรู้สึกดีทั้งวัน”\nไม่ต้องมีทักษะพิเศษ มาได้เลย\nได้เพื่อนใหม่และชุมชนใหม่\nดีต่อใจ ดีต่อสิ่งแวดล้อม\nติดต่อสมัคร: คุณกิ๊ก – 087-443-4457 / เพจ สยามอารยะ – Siam Araya
URL:https://timebankapp.app/event/%e0%b8%ad%e0%b8%b2%e0%b8%aa%e0%b8%b2%e0%b9%80%e0%b8%81%e0%b9%87%e0%b8%9a%e0%b8%82%e0%b8%a2%e0%b8%b0%e0%b8%84%e0%b8%a5%e0%b8%ad%e0%b8%87-%e0%b8%84%e0%b8%a5%e0%b8%ad%e0%b8%87%e0%b8%9a%e0%b8%b2-2/
CATEGORIES:กิจกรรมอื่นๆ,ธรรมชาติ สิ่งแวดล้อม,บูรณะ ฟื้นฟู ก่อสร้าง
ATTACH;FMTTYPE=image/png:https://timebankapp.app/wp-content/uploads/2026/04/1000018131.png
END:VEVENT
BEGIN:VEVENT
DTSTART;TZID=Asia/Krasnoyarsk:20260401T093000
DTEND;TZID=Asia/Krasnoyarsk:20260430T160000
DTSTAMP:20260425T173733
CREATED:20260409T160839Z
LAST-MODIFIED:20260409T160839Z
UID:9440-1775035800-1777564800@timebankapp.app
SUMMARY:ทีมสื่อสร้างสรรค์ — รายการสยามอารยะ
DESCRIPTION:📋 Copy Link\n    \n    \n     \nประเภท: อาสาสมัคร (ต่อเนื่อง)\nรายละเอียด: ร่วมผลิตรายการวิดีโอเล่าเรื่องชุมชน วัฒนธรรม และวิถีอารยะ เผยแพร่ทาง YouTube / Facebook / TikTok เวลา: ไม่เกิน 8–10 ชั่วโมง/สัปดาห์\nคุณได้อะไร:\n“คุณจะได้ผลิตงานจริง ที่มีคนดูจริง — ไม่ใช่แค่งานห้องเรียน แต่เป็น Content ที่สร้าง Impact ให้ชุมชน และชื่อคุณจะอยู่ใน Credit ทุกตอน”\nได้ประสบการณ์ Production จริง\nสร้าง Portfolio สื่อที่มีคุณค่าสังคม\nได้เครือข่ายคนทำสื่อและครีเอเตอร์\nติดต่อสมัคร: คุณกิ๊ก – 087-443-4457 / เพจ สยามอารยะ – Siam Araya
URL:https://timebankapp.app/event/%e0%b8%97%e0%b8%b5%e0%b8%a1%e0%b8%aa%e0%b8%b7%e0%b9%88%e0%b8%ad%e0%b8%aa%e0%b8%a3%e0%b9%89%e0%b8%b2%e0%b8%87%e0%b8%aa%e0%b8%a3%e0%b8%a3%e0%b8%84%e0%b9%8c-%e0%b8%a3%e0%b8%b2%e0%b8%a2%e0%b8%81/
CATEGORIES:การศึกษา เรียนรู้ ฝึกอบรม,กิจกรรมอื่นๆ
ATTACH;FMTTYPE=image/png:https://timebankapp.app/wp-content/uploads/2026/04/1000018125.png
END:VEVENT
BEGIN:VEVENT
DTSTART;TZID=Asia/Krasnoyarsk:20260401T093000
DTEND;TZID=Asia/Krasnoyarsk:20260430T160000
DTSTAMP:20260425T173733
CREATED:20260409T160800Z
LAST-MODIFIED:20260409T160800Z
UID:9438-1775035800-1777564800@timebankapp.app
SUMMARY:แคนดูทีม — สอนผลิตอุปโภคชุมชน
DESCRIPTION:📋 Copy Link\n    \n    \n     \nประเภท: กิจกรรม (Workshop)\nรายละเอียด: Workshop สอนทำผลิตภัณฑ์อุปโภคจากวัสดุธรรมชาติ เช่น น้ำยาล้างจาน แชมพู สบู่ สำหรับใช้เองและขายได้ เวลา: ครั้งละ 3–4 ชั่วโมง | จัดเป็นรอบ\nคุณได้อะไร:\n“ค่าใช้จ่ายในบ้านลดได้จริง ถ้าคุณรู้สูตรที่ถูกและปลอดภัย มาเรียนแล้วกลับไปทำเองได้เลย ไม่ต้องซื้ออีก”\nได้สูตรและความรู้กลับบ้าน\nลดค่าใช้จ่ายครัวเรือน\nต่อยอดเป็นรายได้เสริมได้\nติดต่อสมัคร: คุณกิ๊ก – 087-443-4457 / เพจ สยามอารยะ – Siam Araya
URL:https://timebankapp.app/event/%e0%b9%81%e0%b8%84%e0%b8%99%e0%b8%94%e0%b8%b9%e0%b8%97%e0%b8%b5%e0%b8%a1-%e0%b8%aa%e0%b8%ad%e0%b8%99%e0%b8%9c%e0%b8%a5%e0%b8%b4%e0%b8%95%e0%b8%ad%e0%b8%b8%e0%b8%9b%e0%b9%82%e0%b8%a0%e0%b8%84-2/
CATEGORIES:การศึกษา เรียนรู้ ฝึกอบรม,กิจกรรมอื่นๆ,ธรรมชาติ สิ่งแวดล้อม
ATTACH;FMTTYPE=image/png:https://timebankapp.app/wp-content/uploads/2026/04/1000018129.png
END:VEVENT
BEGIN:VEVENT
DTSTART;TZID=Asia/Krasnoyarsk:20260401T093000
DTEND;TZID=Asia/Krasnoyarsk:20260430T160000
DTSTAMP:20260425T173733
CREATED:20260409T160714Z
LAST-MODIFIED:20260409T160714Z
UID:9435-1775035800-1777564800@timebankapp.app
SUMMARY:เยาวชนสยามอารยะ — บอร์ดเกมการเรียนรู้
DESCRIPTION:📋 Copy Link\n    \n    \n     \nประเภท: อาสาสมัคร (ต่อเนื่อง)\nรายละเอียด: ร่วมทีมเยาวชนออกแบบบอร์ดเกมที่สอดแทรกความรู้วัฒนธรรมไทยและชุมชน เพื่อใช้ในโรงเรียนและศูนย์เรียนรู้ เวลา: ไม่เกิน 6–8 ชั่วโมง/สัปดาห์\nคุณได้อะไร:\n“ถ้าคุณเคยคิดว่า ‘อยากทำเกมเป็นของตัวเอง’ — นี่คือโอกาสนั้น และเกมของคุณจะถูกเล่นโดยเด็กทั่วชุมชน ไม่ใช่แค่เพื่อน”\nได้ทักษะ Game Design และการคิดเชิงสร้างสรรค์\nได้ผลงานจริงที่จับต้องได้\nเหมาะมากสำหรับนักศึกษาที่ต้องการ Portfolio\nติดต่อสมัคร: คุณกิ๊ก – 087-443-4457 / เพจ สยามอารยะ – Siam Araya
URL:https://timebankapp.app/event/%e0%b9%80%e0%b8%a2%e0%b8%b2%e0%b8%a7%e0%b8%8a%e0%b8%99%e0%b8%aa%e0%b8%a2%e0%b8%b2%e0%b8%a1%e0%b8%ad%e0%b8%b2%e0%b8%a3%e0%b8%a2%e0%b8%b0-%e0%b8%9a%e0%b8%ad%e0%b8%a3%e0%b9%8c%e0%b8%94%e0%b9%80-2/
CATEGORIES:การศึกษา เรียนรู้ ฝึกอบรม,กิจกรรมอื่นๆ,เด็ก เยาวชน สตรี
ATTACH;FMTTYPE=image/png:https://timebankapp.app/wp-content/uploads/2026/04/1000018128.png
END:VEVENT
BEGIN:VEVENT
DTSTART;TZID=Asia/Krasnoyarsk:20260329T120000
DTEND;TZID=Asia/Krasnoyarsk:20260329T153000
DTSTAMP:20260425T173733
CREATED:20260314T162951Z
LAST-MODIFIED:20260315T011014Z
UID:8842-1774785600-1774798200@timebankapp.app
SUMMARY:รับอาสาสมัคร ร่วมจัดกิจกรรมเพื่อผู้สูงอายุ Senior Gentleman & Lady
DESCRIPTION:📋 Copy Link\n    \n    \n     \n📌 ประเภทกิจกรรมรับสมัคร\n(สามารถเลือกได้ตามความถนัด/ความชอบ\n– งานทะเบียน\n– งานมีเดีย\n– งานโปรแกรม\n– งานกิจกรรมพิเศษ (สันทนาการ)\n– งานสวัสดิการ \n📌 คุณสมบัติ\nทุกเพศ ทุกวัย ที่มีหัวใจอาสาดูแลผู้สูงอายุ\nมีพลัง และยินดีเรียนรู้สิ่งใหม่ \n📌 วัน-เวลา สถานที่จัดกิจกรรม\n– วันอาทิตย์ที่ 29 มีนาคม 2026\n– เวลา : 12.00 – 15.30 น.\n– สถานที่ : แพทยสมาคมแห่งประเทศไทย (ซ.เพชรบุรี 47)
URL:https://timebankapp.app/event/%e0%b8%a3%e0%b8%b1%e0%b8%9a%e0%b8%ad%e0%b8%b2%e0%b8%aa%e0%b8%b2%e0%b8%aa%e0%b8%a1%e0%b8%b1%e0%b8%84%e0%b8%a3-%e0%b8%a3%e0%b9%88%e0%b8%a7%e0%b8%a1%e0%b8%88%e0%b8%b1%e0%b8%94%e0%b8%81%e0%b8%b4%e0%b8%88/
CATEGORIES:การศึกษา เรียนรู้ ฝึกอบรม,กิจกรรมอื่นๆ,ผู้พิการ ผู้ด้อยโอกาส ผู้สูงอายุ,สุขภาพ สาธารณะสุข
ATTACH;FMTTYPE=image/jpeg:https://timebankapp.app/wp-content/uploads/2026/03/รับสมัครจิตอาสา-1.jpeg
END:VEVENT
BEGIN:VEVENT
DTSTART;TZID=Asia/Krasnoyarsk:20260324T210300
DTEND;TZID=Asia/Krasnoyarsk:20260430T210300
DTSTAMP:20260425T173733
CREATED:20260326T143844Z
LAST-MODIFIED:20260326T143844Z
UID:9170-1774386180-1777582980@timebankapp.app
SUMMARY:อาสาส่งของ
DESCRIPTION:📋 Copy Link\n    \n    \n     \n🚀 สายขับ สายลุย ห้ามพลาด! \n🧡 รับสมัคร “อาสาส่งของ”\nงานสำหรับคนที่ชอบความคล่องตัว ไม่ชอบนั่งอยู่กับที่! \n📦 วิ่งงาน รับ-ส่งสินค้าและเอกสาร\n🛵 เดินทางตามจุดต่าง ๆ ที่ได้รับมอบหมาย\n🤝 ประสานงานให้ของถึงมือผู้รับอย่างเรียบร้อย \n👥 เปิดรับ 5 คน เท่านั้น! \n🔥 เหมาะกับคนที่\n✔️ ชอบขับรถ/ขี่มอเตอร์ไซค์\n✔️ ทำงานไว คล่องตัว\n✔️ รับผิดชอบ ตรงต่อเวลา \n⭐ มีใบขับขี่\n⭐ มีรถส่วนตัว (พิจารณาพิเศษ) \n⏰ เวลาทำงาน\nประมาณ 08.00 – 17.00 น. \n📍 พื้นที่ทำงาน\nกระจายตามจุดที่ได้รับมอบหมาย (มีทีมช่วยประสานงาน) \n📞 ติดต่อ\n091-775-3155 (นุ่น) \n💥 ใครไม่ชอบงานนั่งโต๊ะ อยากได้งานที่ได้ออกไปลุยทุกวัน\nงานนี้ใช่เลย! รีบสมัครก่อนเต็มนะ 🧡✨
URL:https://timebankapp.app/event/%e0%b8%ad%e0%b8%b2%e0%b8%aa%e0%b8%b2%e0%b8%aa%e0%b9%88%e0%b8%87%e0%b8%82%e0%b8%ad%e0%b8%87/
CATEGORIES:การศึกษา เรียนรู้ ฝึกอบรม,กิจกรรมอื่นๆ
ATTACH;FMTTYPE=image/jpeg:https://timebankapp.app/wp-content/uploads/2026/03/21D44F78-F422-4A3F-B51E-5BD6228CFF96.jpeg
END:VEVENT
BEGIN:VEVENT
DTSTART;TZID=Asia/Krasnoyarsk:20260323T120000
DTEND;TZID=Asia/Krasnoyarsk:20260430T120000
DTSTAMP:20260425T173733
CREATED:20260326T143655Z
LAST-MODIFIED:20260326T143655Z
UID:9157-1774267200-1777550400@timebankapp.app
SUMMARY:รับอาสาสมัครผู้ประสานงานโครงการ
DESCRIPTION:📋 Copy Link\n    \n    \n     \nรับอาสาสมัครผู้ประสานงานโครงการเพื่อสร้างเครือข่ายนักออกแบบเพื่อสังคม
URL:https://timebankapp.app/event/%e0%b8%a3%e0%b8%b1%e0%b8%9a%e0%b8%ad%e0%b8%b2%e0%b8%aa%e0%b8%b2%e0%b8%aa%e0%b8%a1%e0%b8%b1%e0%b8%84%e0%b8%a3%e0%b8%9c%e0%b8%b9%e0%b9%89%e0%b8%9b%e0%b8%a3%e0%b8%b0%e0%b8%aa%e0%b8%b2%e0%b8%99%e0%b8%87/
CATEGORIES:กิจกรรมอื่นๆ
ATTACH;FMTTYPE=image/png:https://timebankapp.app/wp-content/uploads/2026/03/รับสมัครจิตอาสา-ทำความสะอาดศูนย์เรียนรู้-scaled.png
END:VEVENT
BEGIN:VEVENT
DTSTART;TZID=Asia/Krasnoyarsk:20260318T014300
DTEND;TZID=Asia/Krasnoyarsk:20260425T014300
DTSTAMP:20260425T173733
CREATED:20260318T020436Z
LAST-MODIFIED:20260318T020436Z
UID:9045-1773798180-1777081380@timebankapp.app
SUMMARY:Sunday school
DESCRIPTION:📋 Copy Link\n    \n    \n     \nรับสมัครครูอาสา ประจำเดือนเมษายน จำนวน 10 คน\nเพื่อดูแลน้องๆ ตั้งแต่ อายุ 3-12 ปี\nทุกวันอาทิตย์ เวลา 09:30 – 12:00 น.
URL:https://timebankapp.app/event/sunday-school-5/
CATEGORIES:การศึกษา เรียนรู้ ฝึกอบรม,กิจกรรมอื่นๆ,เด็ก เยาวชน สตรี
ATTACH;FMTTYPE=image/png:https://timebankapp.app/wp-content/uploads/2026/03/กองทุนเวลา2.png
END:VEVENT
BEGIN:VEVENT
DTSTART;TZID=Asia/Krasnoyarsk:20260318T013200
DTEND;TZID=Asia/Krasnoyarsk:20260404T230000
DTSTAMP:20260425T173733
CREATED:20260318T020510Z
LAST-MODIFIED:20260318T020510Z
UID:9043-1773797520-1775343600@timebankapp.app
SUMMARY:อาสาสมัครเพื่อสร้างชุมชนที่ยั่งยืน
DESCRIPTION:📋 Copy Link\n    \n    \n     \nรับสมัครจิตอาสา ไม่จำกัด จำนวน อายุ และเพศ เพื่อเป็นส่วนหนึ่งในการช่วยสร้างชุมชนที่ยั่งยืน\nกิจกรรมที่จะทำ\n1.ปลูกต้นไม้\n2.ทำความสะอาดพื้นที่\n3.เก็บขยะและคัดแยกขยะ
URL:https://timebankapp.app/event/%e0%b8%ad%e0%b8%b2%e0%b8%aa%e0%b8%b2%e0%b8%aa%e0%b8%a1%e0%b8%b1%e0%b8%84%e0%b8%a3%e0%b9%80%e0%b8%9e%e0%b8%b7%e0%b9%88%e0%b8%ad%e0%b8%aa%e0%b8%a3%e0%b9%89%e0%b8%b2%e0%b8%87%e0%b8%8a%e0%b8%b8%e0%b8%a1/
CATEGORIES:กิจกรรมอื่นๆ,ธรรมชาติ สิ่งแวดล้อม,บูรณะ ฟื้นฟู ก่อสร้าง
ATTACH;FMTTYPE=image/png:https://timebankapp.app/wp-content/uploads/2026/03/ชุมชนยั่งยืน.png
END:VEVENT
BEGIN:VEVENT
DTSTART;TZID=Asia/Krasnoyarsk:20260316T160000
DTEND;TZID=Asia/Krasnoyarsk:20260322T200000
DTSTAMP:20260425T173733
CREATED:20260317T031644Z
LAST-MODIFIED:20260317T031644Z
UID:8987-1773676800-1774209600@timebankapp.app
SUMMARY:แปลงโฉมศูนย์เรียนรู้เพื่อชุมชน
DESCRIPTION:📋 Copy Link\n    \n    \n     \nรับสมัครจิตอาสาเพื่อช่วยกันแปลงโฉมศูนย์เรียนรู้ เพื่อสาธารณะประโยชน์
URL:https://timebankapp.app/event/%e0%b9%81%e0%b8%9b%e0%b8%a5%e0%b8%87%e0%b9%82%e0%b8%89%e0%b8%a1%e0%b8%a8%e0%b8%b9%e0%b8%99%e0%b8%a2%e0%b9%8c%e0%b9%80%e0%b8%a3%e0%b8%b5%e0%b8%a2%e0%b8%99%e0%b8%a3%e0%b8%b9%e0%b9%89%e0%b9%80%e0%b8%9e/
CATEGORIES:กิจกรรมอื่นๆ
ATTACH;FMTTYPE=image/jpeg:https://timebankapp.app/wp-content/uploads/2026/03/รับสมัครจิตอาสา-ทำความสะอาดศูนย์เรียนรู้-scaled.jpg
END:VEVENT
BEGIN:VEVENT
DTSTART;TZID=Asia/Krasnoyarsk:20260316T090000
DTEND;TZID=Asia/Krasnoyarsk:20260316T090000
DTSTAMP:20260425T173733
CREATED:20260314T162321Z
LAST-MODIFIED:20260315T011148Z
UID:8899-1773651600-1773651600@timebankapp.app
SUMMARY:“ผู้สูงวัยใส่ใจเด็ก”
DESCRIPTION:📋 Copy Link\n    \n    \n     \nกิจกรรมที่มุ่งสร้างพื้นที่แห่ง ความรัก ความเข้าใจ และการแบ่งปัน\nระหว่าง ผู้สูงอายุ และ เด็กนักเรียน \nภายในงาน ผู้สูงอายุจะได้ร่วม\n✨ มอบของขวัญและกำลังใจ\n✨ ถ่ายทอดประสบการณ์ชีวิต\n✨ สร้างความสัมพันธ์ที่อบอุ่นระหว่างวัย \nเพื่อร่วมกันสร้างสังคมแห่งการเรียนรู้\nและปลูกฝังคุณค่าของการเคารพและดูแลกันระหว่างวัย
URL:https://timebankapp.app/event/%e0%b8%9c%e0%b8%b9%e0%b9%89%e0%b8%aa%e0%b8%b9%e0%b8%87%e0%b8%a7%e0%b8%b1%e0%b8%a2%e0%b9%83%e0%b8%aa%e0%b9%88%e0%b9%83%e0%b8%88%e0%b9%80%e0%b8%94%e0%b9%87%e0%b8%81/
CATEGORIES:กิจกรรมอื่นๆ,ผู้พิการ ผู้ด้อยโอกาส ผู้สูงอายุ,สุขภาพ สาธารณะสุข,เด็ก เยาวชน สตรี
ATTACH;FMTTYPE=image/jpeg:https://timebankapp.app/wp-content/uploads/2026/03/6402.jpg
END:VEVENT
BEGIN:VEVENT
DTSTART;TZID=Asia/Krasnoyarsk:20260315T073000
DTEND;TZID=Asia/Krasnoyarsk:20260331T120000
DTSTAMP:20260425T173733
CREATED:20260314T161943Z
LAST-MODIFIED:20260314T161943Z
UID:8861-1773559800-1774958400@timebankapp.app
SUMMARY:อาสาเก็บขยะคลอง — คลองบางมดสะอาด ♻️🧃🧹
DESCRIPTION:📋 Copy Link\n    \n    \n     \nอาสาเก็บขยะคลอง — คลองบางมดสะอาด\nประเภท: กิจกรรม (จัดประจำ)\n.\nรายละเอียด: ร่วมเก็บขยะในคลองบางมดกับชุมชนและวัดบัวผัน สร้างคลองสะอาดที่ทุกคนอยู่ได้ เวลา: ครั้งละ 3–4 ชั่วโมง | เช้าวันอาทิตย์ เดือนละ 2 ครั้ง\n.\nคุณได้อะไร:\n“บางทีสิ่งที่ชาร์จพลังชีวิตได้ดีที่สุด ไม่ใช่การพัก แต่คือการ ‘ทำอะไรบางอย่างที่มีความหมาย’ ร่วมกับคนอื่น — แค่เช้าเดียว คุณจะรู้สึกดีทั้งวัน”\nไม่ต้องมีทักษะพิเศษ มาได้เลย\nได้เพื่อนใหม่และชุมชนใหม่\nดีต่อใจ ดีต่อสิ่งแวดล้อม\n.\nติดต่อสมัคร: คุณกิ๊ก – 087-443-4457 / เพจ สยามอารยะ – Siam Araya
URL:https://timebankapp.app/event/%e0%b8%ad%e0%b8%b2%e0%b8%aa%e0%b8%b2%e0%b9%80%e0%b8%81%e0%b9%87%e0%b8%9a%e0%b8%82%e0%b8%a2%e0%b8%b0%e0%b8%84%e0%b8%a5%e0%b8%ad%e0%b8%87-%e0%b8%84%e0%b8%a5%e0%b8%ad%e0%b8%87%e0%b8%9a%e0%b8%b2/
CATEGORIES:กิจกรรมอื่นๆ,ธรรมชาติ สิ่งแวดล้อม,บูรณะ ฟื้นฟู ก่อสร้าง
ATTACH;FMTTYPE=image/png:https://timebankapp.app/wp-content/uploads/2026/03/1000017851.png
END:VEVENT
BEGIN:VEVENT
DTSTART;TZID=Asia/Krasnoyarsk:20260311T083000
DTEND;TZID=Asia/Krasnoyarsk:20260331T160000
DTSTAMP:20260425T173733
CREATED:20260314T160826Z
LAST-MODIFIED:20260314T160826Z
UID:8855-1773217800-1774972800@timebankapp.app
SUMMARY:เยาวชนสยามอารยะ — บอร์ดเกมการเรียนรู้ 🎲🎮🧩
DESCRIPTION:📋 Copy Link\n    \n    \n     \nเยาวชนสยามอารยะ — บอร์ดเกมการเรียนรู้\n.\nประเภท: อาสาสมัคร (ต่อเนื่อง)\nรายละเอียด: ร่วมทีมเยาวชนออกแบบบอร์ดเกมที่สอดแทรกความรู้วัฒนธรรมไทยและชุมชน เพื่อใช้ในโรงเรียนและศูนย์เรียนรู้ เวลา: ไม่เกิน 6–8 ชั่วโมง/สัปดาห์\n.\nคุณได้อะไร:\n“ถ้าคุณเคยคิดว่า ‘อยากทำเกมเป็นของตัวเอง’ — นี่คือโอกาสนั้น และเกมของคุณจะถูกเล่นโดยเด็กทั่วชุมชน ไม่ใช่แค่เพื่อน”\nได้ทักษะ Game Design และการคิดเชิงสร้างสรรค์\nได้ผลงานจริงที่จับต้องได้\nเหมาะมากสำหรับนักศึกษาที่ต้องการ Portfolio\n.\nติดต่อสมัคร: คุณกิ๊ก – 087-443-4457 / เพจ สยามอารยะ – Siam Araya
URL:https://timebankapp.app/event/%e0%b9%80%e0%b8%a2%e0%b8%b2%e0%b8%a7%e0%b8%8a%e0%b8%99%e0%b8%aa%e0%b8%a2%e0%b8%b2%e0%b8%a1%e0%b8%ad%e0%b8%b2%e0%b8%a3%e0%b8%a2%e0%b8%b0-%e0%b8%9a%e0%b8%ad%e0%b8%a3%e0%b9%8c%e0%b8%94%e0%b9%80/
CATEGORIES:การศึกษา เรียนรู้ ฝึกอบรม,กิจกรรมอื่นๆ,เด็ก เยาวชน สตรี
ATTACH;FMTTYPE=image/png:https://timebankapp.app/wp-content/uploads/2026/03/1000017848.png
END:VEVENT
BEGIN:VEVENT
DTSTART;TZID=Asia/Krasnoyarsk:20260311T073000
DTEND;TZID=Asia/Krasnoyarsk:20260331T163000
DTSTAMP:20260425T173733
CREATED:20260314T160621Z
LAST-MODIFIED:20260314T160621Z
UID:8859-1773214200-1774974600@timebankapp.app
SUMMARY:ช่างอาสา — สร้างอาคารอเนกประสงค์ ศูนย์เรียนรู้ชุมชนอารยวิถี 🦺🔨🔧
DESCRIPTION:📋 Copy Link\n    \n    \n     \nช่างอาสา — สร้างอาคารอเนกประสงค์ ศูนย์เรียนรู้ชุมชนอารยวิถี\nประเภท: อาสาสมัคร (โปรเจกต์)\n.\nรายละเอียด: ร่วมออกแบบและก่อสร้างอาคารอเนกประสงค์ที่จะเป็นศูนย์กลางการเรียนรู้ของชุมชนอย่างถาวร เวลา: ไม่เกิน 10 ชั่วโมง/สัปดาห์ | ช่วงวันหยุด\n.\nคุณได้อะไร:\n“อาคารนี้จะยืนอยู่ 20–30 ปี และคุณคือคนที่สร้างมัน ทุกครั้งที่เด็กเข้ามาเรียนในนั้น คุณมีส่วนในชีวิตเขา”\nได้ทักษะก่อสร้างจริงในโปรเจกต์ชุมชน\nได้ผลงานถาวรที่มองเห็นได้\nเหมาะสำหรับนักศึกษาวิศวกรรม/สถาปัตย์ที่ต้องการชั่วโมงภาคสนาม\n.\nติดต่อสมัคร: คุณกิ๊ก – 087-443-4457 / เพจ สยามอารยะ – Siam Araya
URL:https://timebankapp.app/event/%e0%b8%8a%e0%b9%88%e0%b8%b2%e0%b8%87%e0%b8%ad%e0%b8%b2%e0%b8%aa%e0%b8%b2-%e0%b8%aa%e0%b8%a3%e0%b9%89%e0%b8%b2%e0%b8%87%e0%b8%ad%e0%b8%b2%e0%b8%84%e0%b8%b2%e0%b8%a3%e0%b8%ad%e0%b9%80%e0%b8%99/
CATEGORIES:กิจกรรมอื่นๆ,บูรณะ ฟื้นฟู ก่อสร้าง
ATTACH;FMTTYPE=image/png:https://timebankapp.app/wp-content/uploads/2026/03/1000017846.png
END:VEVENT
BEGIN:VEVENT
DTSTART;TZID=Asia/Krasnoyarsk:20260308T180000
DTEND;TZID=Asia/Krasnoyarsk:20260331T180000
DTSTAMP:20260425T173733
CREATED:20260308T125958Z
LAST-MODIFIED:20260308T125958Z
UID:8814-1772992800-1774980000@timebankapp.app
SUMMARY:50 Plus Vibes (Content & Digital Media Team)
DESCRIPTION:📋 Copy Link\n    \n    \n     \nเปิดรับสมัคร\nContent & Digital Media Team \nตำแหน่งที่รับสมัคร \nด้านออกแบบกราฟฟิก\nด้านตัดต่อวิดีโอ\nด้านคอนเทนต์ครีเอเตอร์\nด้านการติดต่อประสานงาน\nด้านแอดมินสื่อโซเชียลมิเดีย \nคุณสมบัติ \n-ใช้ Canva\, Capcut หรือโปรแกรมที่เกี่ยวข้องได้\n-มีความรู้และเข้าใจการออกแบบ ทัศนศิลป์\n-มีทักษะการสื่อสารได้ดี มีไหวพริบ ความคิดสร้างสรรค์\n-มีความสนใจด้านสุขสภาพในทุกกลุ่ม ทุกช่วงวัย\n-สามารถใช้สื่อโซเชียลมีเดียในแต่ละแพลตฟอร์มได้คล่อง\n-มีจิตสาธารณะ อัธยาศัยดี เห็นแก่ส่วนรวม\n-มีความรับผิดชอบ ส่งงานตรงเวลา\n-เปิดรับฟังความคิดเห็น และปรับแก้ตามคำแนะนำได้\n-ทำงานเป็นทีมได้ดี ไม่ยึดติดความคิดตนเอง\n-เข้าใจความแตกต่างของช่วงวัย (โดยเฉพาะถ้าทำงานกับกลุ่ม 50+ หรือหลายเจเนอเรชัน)\n-มีความละเอียดรอบคอบ ตรวจสอบข้อมูลก่อนเผยแพร่
URL:https://timebankapp.app/event/50-plus-vibes-content-digital-media-team/
CATEGORIES:กิจกรรมอื่นๆ
ATTACH;FMTTYPE=image/jpeg:https://timebankapp.app/wp-content/uploads/2026/03/Beige-Colorful-Illustrative-Announcement-Poster_20260308_165234_0000-scaled.jpg
END:VEVENT
BEGIN:VEVENT
DTSTART;TZID=Asia/Krasnoyarsk:20260303T190000
DTEND;TZID=Asia/Krasnoyarsk:20260331T211500
DTSTAMP:20260425T173733
CREATED:20260304T150116Z
LAST-MODIFIED:20260304T150116Z
UID:8558-1772564400-1774991700@timebankapp.app
SUMMARY:เปิดรับสมัครอาสาสมัครร่วมทีมงาน "สยามอารยะไลฟ์" ประจำเดือนมีนาคม 2569
DESCRIPTION:📋 Copy Link\n    \n    \n     \n*📢 สยามอารยะ กำลังโทรหาคุณ… มาร่วมเป็นส่วนหนึ่งกับเรา!*\nเปิดรับสมัครอาสาสมัครร่วมทีมงาน “สยามอารยะไลฟ์” มาร่วมสร้างสรรค์รายการดีๆ และส่งต่อสิ่งดีงามไปด้วยกัน \n🎨 ตำแหน่งที่เปิดรับ:\n– ช่างกล้อง\n– คนทำสไลด์ข่าว\n– พิธีกรดำเนินช่วงรายการ\n– คนตัดต่อคลิปพิเศษ\n– ครีเอทีฟรายการ \n🗓️ วันและเวลาปฏิบัติงาน:\nทุกวันอังคาร\n(ยกเว้นวันอังคารสุดท้ายของเดือน) \n📞 สนใจร่วมทีมติดต่อได้ที่:\nผู้ประสานงานอารยะไลฟ์\nโทร: 088-576-8050\nหรือ สมัครได้ที่ลิ้งค์ด้านล่าง ตั้งแต่วันนี้ – ถึงวันที่ 31 มีนาคม 2569\nhttps://forms.gle/HgPy6PqzMVq5CYRv7 \nมาร่วมสร้างสังคมให้เป็นอารยะร่วมกัน! 🌱 \n#สยามอารยะ #SiamAraya #อาสาสมัคร #รับสมัครอาสาสมัคร #อารยะไลฟ์ #VolunteerTH
URL:https://timebankapp.app/event/%e0%b9%80%e0%b8%9b%e0%b8%b4%e0%b8%94%e0%b8%a3%e0%b8%b1%e0%b8%9a%e0%b8%aa%e0%b8%a1%e0%b8%b1%e0%b8%84%e0%b8%a3%e0%b8%ad%e0%b8%b2%e0%b8%aa%e0%b8%b2%e0%b8%aa%e0%b8%a1%e0%b8%b1%e0%b8%84%e0%b8%a3%e0%b8%a3-2/
CATEGORIES:กิจกรรมอื่นๆ
ATTACH;FMTTYPE=image/png:https://timebankapp.app/wp-content/uploads/2026/03/1000017682.png
END:VEVENT
BEGIN:VEVENT
DTSTART;TZID=Asia/Krasnoyarsk:20260301T213000
DTEND;TZID=Asia/Krasnoyarsk:20260331T213000
DTSTAMP:20260425T173733
CREATED:20260226T165936Z
LAST-MODIFIED:20260226T165936Z
UID:8297-1772400600-1774992600@timebankapp.app
SUMMARY:📣รับสมัคมอาสาสมัครครู และพี่เลี้ยง “ดูแลระดับชั้นอนุบาล - ประถมศึกษาชั้นปีที่6”
DESCRIPTION:📋 Copy Link\n    \n    \n     \n📣รับสมัคมอาสาสมัครครู และพี่เลี้ยง\n“ดูแลระดับชั้นอนุบาล – ประถมศึกษาชั้นปีที่6” \n⏰เดือนมีนาคม 2026 เวลา 09.30-12.00น.\n📍ณ โฮปอะคาเดมี่แพร่ อำเภอเมือง จังหวัดแพร่ \n📃ลักษณะงาน : ช่วยจัดสถานที่ ดูแลเรื่องจัดกิจกรรม สันทนาการ ดูแลเรื่องอาหาร และเด็กให้เรียบร้อย\n📜 คุณสมบัติ : มีทักษะการนำ การทำกิจกรร สันทนาการ รักเด็ก ดูแลเด็กๆได้เป็นอย่างดี \n💕ท่านไหนสนใจงานอาสา ครู และพี่เลี้ยง\n📞ติดต่อสอบถามเพิ่มเติม :083-617-0230 (ครูพี่ชมพู่) \n#งานอาสาครูและพี่เลี้ยง\n#รักเด็กสร้างดี\n#จังหวัดแพร่
URL:https://timebankapp.app/event/%f0%9f%93%a3%e0%b8%a3%e0%b8%b1%e0%b8%9a%e0%b8%aa%e0%b8%a1%e0%b8%b1%e0%b8%84%e0%b8%a1%e0%b8%ad%e0%b8%b2%e0%b8%aa%e0%b8%b2%e0%b8%aa%e0%b8%a1%e0%b8%b1%e0%b8%84%e0%b8%a3%e0%b8%84%e0%b8%a3%e0%b8%b9/
CATEGORIES:การศึกษา เรียนรู้ ฝึกอบรม,กิจกรรมอื่นๆ,เด็ก เยาวชน สตรี
ATTACH;FMTTYPE=image/jpeg:https://timebankapp.app/wp-content/uploads/2026/02/รับอาสา-ครู-พี่เลี้ยง-ดูแลเด็ก.jpg
END:VEVENT
BEGIN:VEVENT
DTSTART;TZID=Asia/Krasnoyarsk:20260301T000000
DTEND;TZID=Asia/Krasnoyarsk:20260331T235900
DTSTAMP:20260425T173733
CREATED:20260301T015747Z
LAST-MODIFIED:20260301T015747Z
UID:8325-1772323200-1775001540@timebankapp.app
SUMMARY:งานจิตอาสา สัมมนาเพิ่มพลังแห่งชีวิต (ฝ่ายโปรแกรมและกิจกรรม)
DESCRIPTION:📋 Copy Link\n    \n    \n     \nงานจิตอาสา สัมมนาเพิ่มพลังแห่งชีวิต\nรับฟังข้อคิดดีดีเพื่อเพิ่มพลังชีวิต\nรายละเอียดโครงการ\nระยะเวลา ตลอดเดือนมีนาคม 2569\n• เตรียมงาน วันเสาร์ที่ 7\, 14\, 21\, 28 มีนาคม 2569 เวลา 15.00 ถึง 17.00 น.\n• วันจัดงาน วันอาทิตย์ที่ 1\, 8\, 15\, 22\,29 มีนาคม 2569 เวลา 7.30-17.00 น.\nสถานที่ ณ ห้องประชุมแหล่งสมาคมนายทหาร กองพลทหารม้าที่2 รักษาพระองค์\nคุณสมบัติผู้ร่วมโครงการ\n1. ไม่จำกัดเพศและอายุ\n2. สามารถร่วมโครงการได้ตลอดระยะเวลาที่กำหนด\n3. มีจิตใจอาสารักการช่วยเหลือทำงานเป็นทีม\n4. ยินดีเรียนรู้สิ่งใหม่\nต้องการอาสาสมัครสนับสนุนงานสัมมนา\nฝ่ายโปรแกรมและกิจกรรม\n1. ผู้ควบคุมโปรแกรม\n2. นักดนตรีนักร้องทีมสนับสนุนเครื่องดนตรี\n3. ทีมมีเดีย อุปกรณ์ ตากล้อง\n4. ผู้ควบคุมการทำกิจกรรมกลุ่มย่อย \nติดต่อสอบถามได้ที่\nคุณตาล 087 4611029
URL:https://timebankapp.app/event/%e0%b8%87%e0%b8%b2%e0%b8%99%e0%b8%88%e0%b8%b4%e0%b8%95%e0%b8%ad%e0%b8%b2%e0%b8%aa%e0%b8%b2-%e0%b8%aa%e0%b8%b1%e0%b8%a1%e0%b8%a1%e0%b8%99%e0%b8%b2%e0%b9%80%e0%b8%9e%e0%b8%b4%e0%b9%88%e0%b8%a1%e0%b8%9e/
CATEGORIES:กิจกรรมอื่นๆ
ATTACH;FMTTYPE=image/jpeg:https://timebankapp.app/wp-content/uploads/2026/02/อาสาสถานecard_Page_1.jpg
END:VEVENT
BEGIN:VEVENT
DTSTART;TZID=Asia/Krasnoyarsk:20260227T103900
DTEND;TZID=Asia/Krasnoyarsk:20260331T235900
DTSTAMP:20260425T173733
CREATED:20260301T015953Z
LAST-MODIFIED:20260301T015953Z
UID:8329-1772188740-1775001540@timebankapp.app
SUMMARY:งานจิตอาสา สัมมนาเพิ่มพลังแห่งชีวิต (ฝ่ายสนับสนุน)
DESCRIPTION:📋 Copy Link\n    \n    \n     \nงานจิตอาสา สัมมนาเพิ่มพลังแห่งชีวิต\nรับฟังข้อคิดดีดีเพื่อเพิ่มพลังชีวิต\nรายละเอียดโครงการ\nระยะเวลา ตลอดเดือนมีนาคม 2569\n• เตรียมงาน วันเสาร์ที่ 7\, 14\, 21\, 28 มีนาคม 2569 เวลา 15.00 ถึง 17.00 น.\n• วันจัดงาน วันอาทิตย์ที่ 1\, 8\, 15\, 22\,29 มีนาคม 2569 เวลา 7.30-17.00 น.\nจำนวน 10 ท่าน\nสถานที่ ณ ห้องประชุมแหล่งสมาคมนายทหาร กองพลทหารม้าที่2 รักษาพระองค์\nคุณสมบัติผู้ร่วมโครการ\n1. ไม่จำกัดเพศและอายุ\n2. สามารถร่วมโครงการได้ตลอดระยะเวลาที่กำหนด\n3. มีจิตใจอาสารักการช่วยเหลือทำงานเป็นทีม\n4. ยินดีเรียนรู้สิ่งใหม่\nฝ่ายสนับสนุน\n1. งานดูแลเด็กจัดกิจกรรมสำหรับเด็กที่มากับผู้ปกครองดูแลสวัสดิการอาหารของว่างและน้ำดื่ม\n2. งานสถิติ เช็คจำนวนผู้ร่วมงานทำการประเมินผลเปรียบเทียบแต่ละสัปดาห์\n3. งานประเมินผลทำพรีเซนต์การทำงานทุกครั้งเก็บข้อมูลความพึงพอใจของการร่วมงาน \nติดต่อสอบถามได้ที่\nคุณตาล 087 4611029
URL:https://timebankapp.app/event/%e0%b8%87%e0%b8%b2%e0%b8%99%e0%b8%88%e0%b8%b4%e0%b8%95%e0%b8%ad%e0%b8%b2%e0%b8%aa%e0%b8%b2-%e0%b8%aa%e0%b8%b1%e0%b8%a1%e0%b8%a1%e0%b8%99%e0%b8%b2%e0%b9%80%e0%b8%9e%e0%b8%b4%e0%b9%88%e0%b8%a1-2/
CATEGORIES:กิจกรรมอื่นๆ
ATTACH;FMTTYPE=image/jpeg:https://timebankapp.app/wp-content/uploads/2026/02/อาสาสถานecard_Page_3.jpg
END:VEVENT
BEGIN:VEVENT
DTSTART;TZID=Asia/Krasnoyarsk:20260227T000000
DTEND;TZID=Asia/Krasnoyarsk:20260331T235900
DTSTAMP:20260425T173733
CREATED:20260301T020208Z
LAST-MODIFIED:20260301T020208Z
UID:8327-1772150400-1775001540@timebankapp.app
SUMMARY:งานจิตอาสา สัมมนาเพิ่มพลังแห่งชีวิต (ฝ่ายสวัสดิการและสถานที่)
DESCRIPTION:📋 Copy Link\n    \n    \n     \nงานจิตอาสา สัมมนาเพิ่มพลังแห่งชีวิต\nรับฟังข้อคิดดีดีเพื่อเพิ่มพลังชีวิต\nรายละเอียดโครงการ\nระยะเวลา ตลอดเดือนมีนาคม 2569\n• เตรียมงาน วันเสาร์ที่ 7\, 14\, 21\, 28 มีนาคม 2569 เวลา 15.00 ถึง 17.00 น.\n• วันจัดงาน วันอาทิตย์ที่ 1\, 8\, 15\, 22\,29 มีนาคม 2569 เวลา 7.30-17.00 น.\nจำนวน 10 ท่าน\nสถานที่ ณ ห้องประชุมแหล่งสมาคมนายทหาร กองพลทหารม้าที่2 รักษาพระองค์\nคุณสมบัติผู้ร่วมโครการ\n1. ไม่จำกัดเพศและอายุ\n2. สามารถร่วมโครงการได้ตลอดระยะเวลาที่กำหนด\n3. มีจิตใจอาสารักการช่วยเหลือทำงานเป็นทีม\n4. ยินดีเรียนรู้สิ่งใหม่\nต้องการอาสาสมัครสนับสนุนงานสัมมนา\nฝ่ายสวัสดิการและสถานที่\n1. งานสถานที่ ดูแลความเรียบร้อยการจัดห้อง การติดตั้งอุปกรณ์ต่างๆที่เกี่ยวข้อง\n2. งานตกแต่งดูแลความสวยงามและตกแต่งสถานที่\n3. งานต้อนรับ\n*นั่งโต๊ะต้อนรับ ระบบลงทะเบียน\n*ยืนต้อนรับ\n4. ฝ่ายอาหารและน้ำดื่มบริการจัดเตรียมอาหารของว่างและน้ำดื่มให้กับผู้ร่วมงาน \nติดต่อสอบถามได้ที่\nคุณตาล 087 4611029
URL:https://timebankapp.app/event/%e0%b8%87%e0%b8%b2%e0%b8%99%e0%b8%88%e0%b8%b4%e0%b8%95%e0%b8%ad%e0%b8%b2%e0%b8%aa%e0%b8%b2-%e0%b8%aa%e0%b8%b1%e0%b8%a1%e0%b8%a1%e0%b8%99%e0%b8%b2%e0%b9%80%e0%b8%9e%e0%b8%b4%e0%b9%88%e0%b8%a1-3/
CATEGORIES:กิจกรรมอื่นๆ
ATTACH;FMTTYPE=image/jpeg:https://timebankapp.app/wp-content/uploads/2026/02/อาสาสถานecard_Page_2.jpg
END:VEVENT
BEGIN:VEVENT
DTSTART;TZID=Asia/Krasnoyarsk:20260226T080000
DTEND;TZID=Asia/Krasnoyarsk:20260228T160000
DTSTAMP:20260425T173733
CREATED:20260226T170635Z
LAST-MODIFIED:20260226T170635Z
UID:8284-1772092800-1772294400@timebankapp.app
SUMMARY:เปิดรับสมัครอาสาสมัครร่วมทีมงาน "สยามอารยะไลฟ์" ประจำเดือนกุมภาพันธ์
DESCRIPTION:📋 Copy Link\n    \n    \n     \n*📢 สยามอารยะ กำลังโทรหาคุณ… มาร่วมเป็นส่วนหนึ่งกับเรา!*\nเปิดรับสมัครอาสาสมัครร่วมทีมงาน “สยามอารยะไลฟ์” มาร่วมสร้างสรรค์รายการดีๆ และส่งต่อสิ่งดีงามไปด้วยกัน \n🎨 ตำแหน่งที่เปิดรับ:\n– ช่างกล้อง\n– คนทำสไลด์ข่าว\n– พิธีกรดำเนินช่วงรายการ\n– คนตัดต่อคลิปพิเศษ\n– ครีเอทีฟรายการ \n🗓️ วันและเวลาปฏิบัติงาน:\nทุกวันอังคาร\n(ยกเว้นวันอังคารสุดท้ายของเดือน) \n📞 สนใจร่วมทีมติดต่อได้ที่:\nผู้ประสานงานอารยะไลฟ์\nโทร: 088-576-8050\nหรือ สมัครได้ที่ลิ้งค์ด้านล่าง ตั้งแต่วันนี้ – ถึงวันที่ 28 มีนาคม 2569\nhttps://forms.gle/HgPy6PqzMVq5CYRv7 \nมาร่วมสร้างสังคมให้เป็นอารยะร่วมกัน! 🌱 \n#สยามอารยะ #SiamAraya #อาสาสมัคร #รับสมัครอาสาสมัคร #อารยะไลฟ์ #VolunteerTH
URL:https://timebankapp.app/event/%e0%b9%80%e0%b8%9b%e0%b8%b4%e0%b8%94%e0%b8%a3%e0%b8%b1%e0%b8%9a%e0%b8%aa%e0%b8%a1%e0%b8%b1%e0%b8%84%e0%b8%a3%e0%b8%ad%e0%b8%b2%e0%b8%aa%e0%b8%b2%e0%b8%aa%e0%b8%a1%e0%b8%b1%e0%b8%84%e0%b8%a3%e0%b8%a3/
CATEGORIES:กิจกรรมอื่นๆ
ATTACH;FMTTYPE=image/png:https://timebankapp.app/wp-content/uploads/2026/02/1000017682.png
END:VEVENT
BEGIN:VEVENT
DTSTART;TZID=Asia/Krasnoyarsk:20260201T104500
DTEND;TZID=Asia/Krasnoyarsk:20260329T104500
DTSTAMP:20260425T173733
CREATED:20260301T021118Z
LAST-MODIFIED:20260301T021118Z
UID:8380-1769942700-1774781100@timebankapp.app
SUMMARY:Activity Hope รับสมัคร STAFF จิตอาสา
DESCRIPTION:📋 Copy Link\n    \n    \n     \nกิจกรรม ทุกวันอาทิตย์ (หากเปลี่ยนวันจะแจ้งสื่อสารกลับทางไลน์)\nเวลา 06:30-17:00 น .\nตลอดเดือนกุมภาพันธ์-เดือนมีนาคม 2569 \nฝ่ายที่ต้องการ ดังนี้\n-พยาบาล\n-สวัสดิการสถานที่\n-ดูแลs hop\n-STaff ประจำจุดอำนวยความสะดวก\n-คอรัส\n-อื่นๆ \nรายละเอียดเพิ่มเติม : ผู้สมัครเดินทางมาเอง
URL:https://timebankapp.app/event/activity-hope-%e0%b8%a3%e0%b8%b1%e0%b8%9a%e0%b8%aa%e0%b8%a1%e0%b8%b1%e0%b8%84%e0%b8%a3-staff-%e0%b8%88%e0%b8%b4%e0%b8%95%e0%b8%ad%e0%b8%b2%e0%b8%aa%e0%b8%b2/
CATEGORIES:การศึกษา เรียนรู้ ฝึกอบรม,กิจกรรมอื่นๆ,เด็ก เยาวชน สตรี
ATTACH;FMTTYPE=image/jpeg:https://timebankapp.app/wp-content/uploads/2026/02/IMG_9735.jpeg
END:VEVENT
END:VCALENDAR