BEGIN:VCALENDAR
VERSION:2.0
PRODID:-//Timebank Application - ECPv6.8.2//NONSGML v1.0//EN
CALSCALE:GREGORIAN
METHOD:PUBLISH
X-ORIGINAL-URL:https://timebankapp.app
X-WR-CALDESC:กิจกรรมสำหรับ Timebank Application
REFRESH-INTERVAL;VALUE=DURATION:PT1H
X-Robots-Tag:noindex
X-PUBLISHED-TTL:PT1H
BEGIN:VTIMEZONE
TZID:Asia/Krasnoyarsk
BEGIN:STANDARD
TZOFFSETFROM:+0700
TZOFFSETTO:+0700
TZNAME:+07
DTSTART:20260101T000000
END:STANDARD
END:VTIMEZONE
BEGIN:VEVENT
DTSTART;TZID=Asia/Krasnoyarsk:20260201T125400
DTEND;TZID=Asia/Krasnoyarsk:20260228T125400
DTSTAMP:20260425T084104
CREATED:20260220T114805Z
LAST-MODIFIED:20260220T114945Z
UID:8044-1769950440-1772283240@timebankapp.app
SUMMARY:รับสมัครจิตอาสาพัฒนาที่ดินเพื่อสาธารณประโยชน์
DESCRIPTION:📋 Copy Link\n    \n    \n     \nกิจกรรมประเดือนกุมภาพันธ์ 2569\nผู้สมัครจิตอาสา ต้องเสียค่าเดินทางไปสถานที่เอง
URL:https://timebankapp.app/event/%e0%b8%a3%e0%b8%b1%e0%b8%9a%e0%b8%aa%e0%b8%a1%e0%b8%b1%e0%b8%84%e0%b8%a3%e0%b8%88%e0%b8%b4%e0%b8%95%e0%b8%ad%e0%b8%b2%e0%b8%aa%e0%b8%b2%e0%b8%9e%e0%b8%b1%e0%b8%92%e0%b8%99%e0%b8%b2%e0%b8%97%e0%b8%b5-2/
CATEGORIES:ธรรมชาติ สิ่งแวดล้อม,เกษตร สัตว์เลี้ยง
ATTACH;FMTTYPE=image/jpeg:https://timebankapp.app/wp-content/uploads/2026/02/IMG_9546.jpeg
END:VEVENT
END:VCALENDAR