BEGIN:VCALENDAR
VERSION:2.0
PRODID:-//Timebank Application - ECPv6.8.2//NONSGML v1.0//EN
CALSCALE:GREGORIAN
METHOD:PUBLISH
X-ORIGINAL-URL:https://timebankapp.app
X-WR-CALDESC:กิจกรรมสำหรับ Timebank Application
REFRESH-INTERVAL;VALUE=DURATION:PT1H
X-Robots-Tag:noindex
X-PUBLISHED-TTL:PT1H
BEGIN:VTIMEZONE
TZID:Asia/Krasnoyarsk
BEGIN:STANDARD
TZOFFSETFROM:+0700
TZOFFSETTO:+0700
TZNAME:+07
DTSTART:20250101T000000
END:STANDARD
END:VTIMEZONE
BEGIN:VEVENT
DTSTART;VALUE=DATE:20250601
DTEND;VALUE=DATE:20260101
DTSTAMP:20260425T174022
CREATED:20240904T013923Z
LAST-MODIFIED:20250420T144426Z
UID:3132-1748736000-1767225599@timebankapp.app
SUMMARY:รับสมัครจิตอาสาพัฒนาที่ดินเพื่อสาธารณประโยชน์
DESCRIPTION:รับสมัครจิตอาสางานพัฒนาด้านต่างๆ เพื่อสร้างเป็นศูนย์เรียนรู้และช่วยเหลือเกษตรกรในพื้นที่ ต.วังหมี อ.วังน้ำเขียว จ.นครราชสีมา \nสิ่งที่ต้องทำ \n\nทำปุ๋ย\nทำคอกสัตว์\nสร้างอาคารเรียนรู้\nปลูก/ดูแลพืชไร่/ต้นไม้โครงการปลูกป่าการให้อาหารสัตว์ เพาะเลี้ยง\n\nสิ่งที่ต้องเตรียม \n\nอุปกรณ์ออกแคมป์ ยกเว้นอาหาร และที่นอน เช่น เครื่องนอน ยาประจำตัว ครีมกันแดด ร่ม
URL:https://timebankapp.app/event/%e0%b8%a3%e0%b8%b1%e0%b8%9a%e0%b8%aa%e0%b8%a1%e0%b8%b1%e0%b8%84%e0%b8%a3%e0%b8%88%e0%b8%b4%e0%b8%95%e0%b8%ad%e0%b8%b2%e0%b8%aa%e0%b8%b2%e0%b8%9e%e0%b8%b1%e0%b8%92%e0%b8%99%e0%b8%b2%e0%b8%97%e0%b8%b5/
CATEGORIES:ธรรมชาติ สิ่งแวดล้อม,บูรณะ ฟื้นฟู ก่อสร้าง,เกษตร สัตว์เลี้ยง
ATTACH;FMTTYPE=image/jpeg:https://timebankapp.app/wp-content/uploads/2024/09/IMG_5779-1.jpeg
END:VEVENT
BEGIN:VEVENT
DTSTART;VALUE=DATE:20251216
DTEND;VALUE=DATE:20260111
DTSTAMP:20260425T174022
CREATED:20251216T051522Z
LAST-MODIFIED:20251216T051522Z
UID:7316-1765843200-1768089599@timebankapp.app
SUMMARY:อาสาสร้างสวน
DESCRIPTION:📋 Copy Link\n    \n    \n     \nขอผู้มีประสบการณ์ด้านงานปลูกต้นไม้ จัดสวน วางระบบน้ำอัตโนมัติ ช่วยสร้างสวนต้นแบบเป็นศูนย์การเรียนรู้ฯ
URL:https://timebankapp.app/event/%e0%b8%ad%e0%b8%b2%e0%b8%aa%e0%b8%b2%e0%b8%aa%e0%b8%a3%e0%b9%89%e0%b8%b2%e0%b8%87%e0%b8%aa%e0%b8%a7%e0%b8%99/
CATEGORIES:ธรรมชาติ สิ่งแวดล้อม,บูรณะ ฟื้นฟู ก่อสร้าง,เกษตร สัตว์เลี้ยง
ATTACH;FMTTYPE=image/jpeg:https://timebankapp.app/wp-content/uploads/2025/12/IMG_0146-scaled.jpeg
END:VEVENT
BEGIN:VEVENT
DTSTART;TZID=Asia/Krasnoyarsk:20260201T125400
DTEND;TZID=Asia/Krasnoyarsk:20260228T125400
DTSTAMP:20260425T174022
CREATED:20260220T114805Z
LAST-MODIFIED:20260220T114945Z
UID:8044-1769950440-1772283240@timebankapp.app
SUMMARY:รับสมัครจิตอาสาพัฒนาที่ดินเพื่อสาธารณประโยชน์
DESCRIPTION:📋 Copy Link\n    \n    \n     \nกิจกรรมประเดือนกุมภาพันธ์ 2569\nผู้สมัครจิตอาสา ต้องเสียค่าเดินทางไปสถานที่เอง
URL:https://timebankapp.app/event/%e0%b8%a3%e0%b8%b1%e0%b8%9a%e0%b8%aa%e0%b8%a1%e0%b8%b1%e0%b8%84%e0%b8%a3%e0%b8%88%e0%b8%b4%e0%b8%95%e0%b8%ad%e0%b8%b2%e0%b8%aa%e0%b8%b2%e0%b8%9e%e0%b8%b1%e0%b8%92%e0%b8%99%e0%b8%b2%e0%b8%97%e0%b8%b5-2/
CATEGORIES:ธรรมชาติ สิ่งแวดล้อม,เกษตร สัตว์เลี้ยง
ATTACH;FMTTYPE=image/jpeg:https://timebankapp.app/wp-content/uploads/2026/02/IMG_9546.jpeg
END:VEVENT
BEGIN:VEVENT
DTSTART;TZID=Asia/Krasnoyarsk:20260301T111100
DTEND;TZID=Asia/Krasnoyarsk:20261231T111100
DTSTAMP:20260425T174022
CREATED:20260304T152739Z
LAST-MODIFIED:20260304T152739Z
UID:8500-1772363460-1798715460@timebankapp.app
SUMMARY:อาสาสร้างสวน
DESCRIPTION:📋 Copy Link\n    \n    \n     \nปรับภูมิทัศน์ ดูแล เพาะปลูก จัดตกแต่งสวน วาวระบบการจัดการการปลูกระบบนิเวศ
URL:https://timebankapp.app/event/%e0%b8%ad%e0%b8%b2%e0%b8%aa%e0%b8%b2%e0%b8%aa%e0%b8%a3%e0%b9%89%e0%b8%b2%e0%b8%87%e0%b8%aa%e0%b8%a7%e0%b8%99-2/
CATEGORIES:การศึกษา เรียนรู้ ฝึกอบรม,ธรรมชาติ สิ่งแวดล้อม,เกษตร สัตว์เลี้ยง
ATTACH;FMTTYPE=image/png:https://timebankapp.app/wp-content/uploads/2026/03/IMG_2247.png
END:VEVENT
BEGIN:VEVENT
DTSTART;TZID=Asia/Krasnoyarsk:20260301T172400
DTEND;TZID=Asia/Krasnoyarsk:20260331T172400
DTSTAMP:20260425T174022
CREATED:20260308T013046Z
LAST-MODIFIED:20260308T013046Z
UID:8760-1772385840-1774977840@timebankapp.app
SUMMARY:พัฒนาที่ดินเพื่อสาธารณะประโยชน์
DESCRIPTION:📋 Copy Link\n    \n    \n     \nเปิดรับสมัครอาสาพัฒนาที่ดิน สายลุย รักธรรมชาติ มาร่วมสร้างพื้นที่สีเขียว **อาสาสมัครเดินทางไปในพื้นที่เอง
URL:https://timebankapp.app/event/%e0%b8%9e%e0%b8%b1%e0%b8%92%e0%b8%99%e0%b8%b2%e0%b8%97%e0%b8%b5%e0%b9%88%e0%b8%94%e0%b8%b4%e0%b8%99%e0%b9%80%e0%b8%9e%e0%b8%b7%e0%b9%88%e0%b8%ad%e0%b8%aa%e0%b8%b2%e0%b8%98%e0%b8%b2%e0%b8%a3%e0%b8%93/
CATEGORIES:ธรรมชาติ สิ่งแวดล้อม,บูรณะ ฟื้นฟู ก่อสร้าง,เกษตร สัตว์เลี้ยง
ATTACH;FMTTYPE=image/jpeg:https://timebankapp.app/wp-content/uploads/2026/03/unnamed-54.jpg
END:VEVENT
BEGIN:VEVENT
DTSTART;TZID=Asia/Krasnoyarsk:20260301T181400
DTEND;TZID=Asia/Krasnoyarsk:20260331T181400
DTSTAMP:20260425T174022
CREATED:20260224T154020Z
LAST-MODIFIED:20260225T125942Z
UID:8127-1772388840-1774980840@timebankapp.app
SUMMARY:รับสมัครจิตอาสาพัฒนาที่ดินเพื่อสาธารณประโยชน์
DESCRIPTION:📋 Copy Link\n    \n    \n     \nกิจกรรมประจำเดือนมีนาคม 2569\nผู้สมัครจิตอาสา ต้องเสียค่าเดินทางไปสถานที่เอง
URL:https://timebankapp.app/event/%e0%b8%a3%e0%b8%b1%e0%b8%9a%e0%b8%aa%e0%b8%a1%e0%b8%b1%e0%b8%84%e0%b8%a3%e0%b8%88%e0%b8%b4%e0%b8%95%e0%b8%ad%e0%b8%b2%e0%b8%aa%e0%b8%b2%e0%b8%9e%e0%b8%b1%e0%b8%92%e0%b8%99%e0%b8%b2%e0%b8%97%e0%b8%b5-3/
CATEGORIES:ธรรมชาติ สิ่งแวดล้อม,บูรณะ ฟื้นฟู ก่อสร้าง,เกษตร สัตว์เลี้ยง
ATTACH;FMTTYPE=image/png:https://timebankapp.app/wp-content/uploads/2026/02/ที่ดิน-กิจกรรมประจำเดือนมีนาคม-2569.png
END:VEVENT
BEGIN:VEVENT
DTSTART;TZID=Asia/Krasnoyarsk:20260311T080000
DTEND;TZID=Asia/Krasnoyarsk:20260331T170000
DTSTAMP:20260425T174022
CREATED:20260314T160711Z
LAST-MODIFIED:20260314T160711Z
UID:8853-1773216000-1774976400@timebankapp.app
SUMMARY:อาสาสมัครสร้างบ้านน้องเป็ด น้องไก่ — แหล่งเรียนรู้ธรรมชาติ 🐣🦢
DESCRIPTION:📋 Copy Link\n    \n    \n     \nอาสาสมัครสร้างบ้านน้องเป็ด น้องไก่ — แหล่งเรียนรู้ธรรมชาติ\n.\nประเภท: อาสาสมัคร (โปรเจกต์)\n.\nรายละเอียด: ร่วมสร้างคอกและบ้านพักสัตว์ปีกสำหรับเป็นแหล่งเรียนรู้ธรรมชาติของเด็กและชุมชน กับวิสาหกิจชุมชนเซฟติสท์ฟาร์ม เวลา: ไม่เกิน 8–10 ชั่วโมง/สัปดาห์ | ช่วงวันหยุด\n.\nคุณได้อะไร:\n“สิ่งที่เด็กจำได้ตลอดชีวิต ไม่ใช่บทเรียนในห้องเรียน แต่คือวันที่เขาได้เห็นเป็ดและไก่ตัวแรกในชีวิต — และคุณคือคนที่สร้างบ้านให้พวกมัน”\nได้ทักษะงานช่างไม้และก่อสร้างเบื้องต้น\nได้เห็นผลงานที่จับต้องได้และมีคุณค่าต่อชุมชน\nเหมาะสำหรับผู้ที่อยากใช้เวลาว่างให้มีความหมาย\n.\nติดต่อสมัคร: คุณกิ๊ก – 087-443-4457 / เพจ สยามอารยะ – Siam Araya
URL:https://timebankapp.app/event/%e0%b8%ad%e0%b8%b2%e0%b8%aa%e0%b8%b2%e0%b8%aa%e0%b8%a1%e0%b8%b1%e0%b8%84%e0%b8%a3%e0%b8%aa%e0%b8%a3%e0%b9%89%e0%b8%b2%e0%b8%87%e0%b8%9a%e0%b9%89%e0%b8%b2%e0%b8%99%e0%b8%99%e0%b9%89%e0%b8%ad%e0%b8%87/
CATEGORIES:ธรรมชาติ สิ่งแวดล้อม,บูรณะ ฟื้นฟู ก่อสร้าง,เกษตร สัตว์เลี้ยง
ATTACH;FMTTYPE=image/png:https://timebankapp.app/wp-content/uploads/2026/03/1000017850.png
END:VEVENT
BEGIN:VEVENT
DTSTART;TZID=Asia/Krasnoyarsk:20260314T080000
DTEND;TZID=Asia/Krasnoyarsk:20260329T160000
DTSTAMP:20260425T174022
CREATED:20260314T161309Z
LAST-MODIFIED:20260314T161309Z
UID:8851-1773475200-1774800000@timebankapp.app
SUMMARY:เรียนรู้นิเวศวิถี ผ่านการปลูกผัก — เซฟติสท์ฟาร์ม
DESCRIPTION:📋 Copy Link\n    \n    \n     \nเรียนรู้นิเวศวิถี ผ่านการปลูกผัก — เซฟติสท์ฟาร์ม\nประเภท: กิจกรรม (จัดเป็นรอบ)\n.\nรายละเอียด: Workshop ลงมือปลูกผักอินทรีย์ เรียนรู้ระบบนิเวศริมคลอง กับชุมชนวิสาหกิจเซฟติสท์ฟาร์ม เวลา: ครั้งละ 4–6 ชั่วโมง | จัดทุก 2 สัปดาห์\n.\n“ในยุคที่ทุกคนอยู่หน้าจอ — วันเดียวที่ได้จับดิน ได้กินผักที่ปลูกเอง ได้คุยกับคนในชุมชน อาจเป็นวันที่ดีที่สุดของเดือนนี้ก็ได้”\nได้ความรู้เกษตรอินทรีย์ติดตัว\nได้ผ่อนคลาย ลดความเครียด สัมผัสธรรมชาติ\nได้ของกินกลับบ้าน และชุมชนใหม่\n.\nติดต่อสมัคร: คุณกิ๊ก – 087-443-4457 / เพจ สยามอารยะ – Siam Araya
URL:https://timebankapp.app/event/%e0%b9%80%e0%b8%a3%e0%b8%b5%e0%b8%a2%e0%b8%99%e0%b8%a3%e0%b8%b9%e0%b9%89%e0%b8%99%e0%b8%b4%e0%b9%80%e0%b8%a7%e0%b8%a8%e0%b8%a7%e0%b8%b4%e0%b8%96%e0%b8%b5-%e0%b8%9c%e0%b9%88%e0%b8%b2%e0%b8%99%e0%b8%81/
CATEGORIES:ธรรมชาติ สิ่งแวดล้อม,เกษตร สัตว์เลี้ยง
ATTACH;FMTTYPE=image/png:https://timebankapp.app/wp-content/uploads/2026/03/1000017847.png
END:VEVENT
BEGIN:VEVENT
DTSTART;TZID=Asia/Krasnoyarsk:20260401T093000
DTEND;TZID=Asia/Krasnoyarsk:20260430T160000
DTSTAMP:20260425T174022
CREATED:20260409T160546Z
LAST-MODIFIED:20260409T160546Z
UID:9427-1775035800-1777564800@timebankapp.app
SUMMARY:เรียนรู้นิเวศวิถี ผ่านการปลูกผัก — เซฟติสท์ฟาร์ม
DESCRIPTION:📋 Copy Link\n    \n    \n     \nเรียนรู้นิเวศวิถี ผ่านการปลูกผัก — เซฟติสท์ฟาร์ม\nประเภท: กิจกรรม (จัดเป็นรอบ)\nรายละเอียด: Workshop ลงมือปลูกผักอินทรีย์ เรียนรู้ระบบนิเวศริมคลอง กับชุมชนวิสาหกิจเซฟติสท์ฟาร์ม เวลา: ครั้งละ 4–6 ชั่วโมง | จัดทุก 2 สัปดาห์\nคุณได้อะไร:\n“ในยุคที่ทุกคนอยู่หน้าจอ — วันเดียวที่ได้จับดิน ได้กินผักที่ปลูกเอง ได้คุยกับคนในชุมชน อาจเป็นวันที่ดีที่สุดของเดือนนี้ก็ได้”\nได้ความรู้เกษตรอินทรีย์ติดตัว\nได้ผ่อนคลาย ลดความเครียด สัมผัสธรรมชาติ\nได้ของกินกลับบ้าน และชุมชนใหม่\nติดต่อสมัคร: คุณกิ๊ก – 087-443-4457 / เพจ สยามอารยะ – Siam Araya
URL:https://timebankapp.app/event/%e0%b9%80%e0%b8%a3%e0%b8%b5%e0%b8%a2%e0%b8%99%e0%b8%a3%e0%b8%b9%e0%b9%89%e0%b8%99%e0%b8%b4%e0%b9%80%e0%b8%a7%e0%b8%a8%e0%b8%a7%e0%b8%b4%e0%b8%96%e0%b8%b5-%e0%b8%9c%e0%b9%88%e0%b8%b2%e0%b8%99-2/
CATEGORIES:ธรรมชาติ สิ่งแวดล้อม,เกษตร สัตว์เลี้ยง
ATTACH;FMTTYPE=image/png:https://timebankapp.app/wp-content/uploads/2026/04/1000018127.png
END:VEVENT
BEGIN:VEVENT
DTSTART;TZID=Asia/Krasnoyarsk:20260401T093000
DTEND;TZID=Asia/Krasnoyarsk:20260430T160000
DTSTAMP:20260425T174022
CREATED:20260409T160627Z
LAST-MODIFIED:20260409T160627Z
UID:9433-1775035800-1777564800@timebankapp.app
SUMMARY:อาสาสมัครสร้างบ้านน้องเป็ด น้องไก่ — แหล่งเรียนรู้ธรรมชาติ
DESCRIPTION:📋 Copy Link\n    \n    \n     \nประเภท: อาสาสมัคร (โปรเจกต์)\nรายละเอียด: ร่วมสร้างคอกและบ้านพักสัตว์ปีกสำหรับเป็นแหล่งเรียนรู้ธรรมชาติของเด็กและชุมชน กับวิสาหกิจชุมชนเซฟติสท์ฟาร์ม เวลา: ไม่เกิน 8–10 ชั่วโมง/สัปดาห์ | ช่วงวันหยุด\nคุณได้อะไร:\n“สิ่งที่เด็กจำได้ตลอดชีวิต ไม่ใช่บทเรียนในห้องเรียน แต่คือวันที่เขาได้เห็นเป็ดและไก่ตัวแรกในชีวิต — และคุณคือคนที่สร้างบ้านให้พวกมัน”\nได้ทักษะงานช่างไม้และก่อสร้างเบื้องต้น\nได้เห็นผลงานที่จับต้องได้และมีคุณค่าต่อชุมชน\nเหมาะสำหรับผู้ที่อยากใช้เวลาว่างให้มีความหมาย\nติดต่อสมัคร: คุณกิ๊ก – 087-443-4457 / เพจ สยามอารยะ – Siam Araya
URL:https://timebankapp.app/event/%e0%b8%ad%e0%b8%b2%e0%b8%aa%e0%b8%b2%e0%b8%aa%e0%b8%a1%e0%b8%b1%e0%b8%84%e0%b8%a3%e0%b8%aa%e0%b8%a3%e0%b9%89%e0%b8%b2%e0%b8%87%e0%b8%9a%e0%b9%89%e0%b8%b2%e0%b8%99%e0%b8%99%e0%b9%89%e0%b8%ad%e0%b8%87-2/
CATEGORIES:ธรรมชาติ สิ่งแวดล้อม,บูรณะ ฟื้นฟู ก่อสร้าง,เกษตร สัตว์เลี้ยง
ATTACH;FMTTYPE=image/png:https://timebankapp.app/wp-content/uploads/2026/04/1000018130.png
END:VEVENT
BEGIN:VEVENT
DTSTART;TZID=Asia/Krasnoyarsk:20260401T130000
DTEND;TZID=Asia/Krasnoyarsk:20260430T130000
DTSTAMP:20260425T174022
CREATED:20260415T015639Z
LAST-MODIFIED:20260415T015639Z
UID:9493-1775048400-1777554000@timebankapp.app
SUMMARY:พัฒนาที่ดินเพื่อจิตสาธารณประโยชน์
DESCRIPTION:📋 Copy Link\n    \n    \n     \n-รับอาสาสมัคร 30 คน\n-อาสาสมัครเดินทางไปเอง
URL:https://timebankapp.app/event/%e0%b8%9e%e0%b8%b1%e0%b8%92%e0%b8%99%e0%b8%b2%e0%b8%97%e0%b8%b5%e0%b9%88%e0%b8%94%e0%b8%b4%e0%b8%99%e0%b9%80%e0%b8%9e%e0%b8%b7%e0%b9%88%e0%b8%ad%e0%b8%88%e0%b8%b4%e0%b8%95%e0%b8%aa%e0%b8%b2%e0%b8%98/
CATEGORIES:ธรรมชาติ สิ่งแวดล้อม,เกษตร สัตว์เลี้ยง
ATTACH;FMTTYPE=image/jpeg:https://timebankapp.app/wp-content/uploads/2026/04/IMG_0971.jpeg
END:VEVENT
END:VCALENDAR