BEGIN:VCALENDAR
VERSION:2.0
PRODID:-//Timebank Application - ECPv6.8.2//NONSGML v1.0//EN
CALSCALE:GREGORIAN
METHOD:PUBLISH
X-ORIGINAL-URL:https://timebankapp.app
X-WR-CALDESC:กิจกรรมสำหรับ Timebank Application
REFRESH-INTERVAL;VALUE=DURATION:PT1H
X-Robots-Tag:noindex
X-PUBLISHED-TTL:PT1H
BEGIN:VTIMEZONE
TZID:Asia/Krasnoyarsk
BEGIN:STANDARD
TZOFFSETFROM:+0700
TZOFFSETTO:+0700
TZNAME:+07
DTSTART:20260101T000000
END:STANDARD
END:VTIMEZONE
BEGIN:VEVENT
DTSTART;TZID=Asia/Krasnoyarsk:20260423T131800
DTEND;TZID=Asia/Krasnoyarsk:20260423T131800
DTSTAMP:20260425T185413
CREATED:20260425T115031Z
LAST-MODIFIED:20260425T115031Z
UID:9611-1776950280-1776950280@timebankapp.app
SUMMARY:เปิดรับสมัคร นักวิจัยอาสาสมัคร และผู้ช่วยวิจัยอาสาสมัคร
DESCRIPTION:📋 Copy Link\n    \n    \n     \nเปิดรับสมัคร\nนักวิจัยอาสาสมัคร และผู้ช่วยวิจัยอาสาสมัคร\nความสนใจ : ความสัมพันธ์ระหว่างประเทศ\, ความยั่งยืน\, การพัฒนาตัวชีวัด\, แบบจำลอง\, สันติภาพ\, การออกแบบและระบบ\, สุขสภาพ \n*เปิดรับตั้งแต่วันนี้ – 31 ธันวาคม 2569*\n*ลักษณะงาน :*\nㆍ ทบทวนวรรณกรรม วิเคราะห์แนวคิด ทฤษฎีและงาน\nศึกษาที่เกี่ยวข้อง\nㆍ เขียนแคปชั่นลงเฟซบุ๊กเพื่อประชาสัมพันธ์องค์กร\nㆍ วิเคราะห์ เรียบเรียงรายงานวิจัย/บทวิเคราะห์/\nเอกสารนำเสนอ\nทำงานร่วมกับทีมวิจัยและผู้เชี่ยวชาญตามโจทย์\nของโครงการ \n*คุณสมบัติผู้สมัคร :*\nㆍ คิดสังเคราะห์ คิดวิเคราะห์ และคิดมีเหตุผล ได้ดี\nเขียนงานวิจัยได้ดี เรียงเรื่องเป็นขั้นตอน อ่านแล้วเข้าใจ\nค้นและสรุปงานวิจัยที่เกี่ยวข้องได้\nㆍ ถ้าเคยทำวิจัย เคยเขียนบทความวิชาการ ทำงาน\nด้านนโยบาย จะพิจารณาเป็นพิเศษ \n*CONTACT US*\n084-002-5076 (คุณพร)\nTemaporn.p@chomrombook.com
URL:https://timebankapp.app/event/%e0%b9%80%e0%b8%9b%e0%b8%b4%e0%b8%94%e0%b8%a3%e0%b8%b1%e0%b8%9a%e0%b8%aa%e0%b8%a1%e0%b8%b1%e0%b8%84%e0%b8%a3-%e0%b8%99%e0%b8%b1%e0%b8%81%e0%b8%a7%e0%b8%b4%e0%b8%88%e0%b8%b1%e0%b8%a2%e0%b8%ad-2/
CATEGORIES:การศึกษา เรียนรู้ ฝึกอบรม
ATTACH;FMTTYPE=image/png:https://timebankapp.app/wp-content/uploads/2026/04/1776924949748.png
END:VEVENT
BEGIN:VEVENT
DTSTART;TZID=Asia/Krasnoyarsk:20260419T110000
DTEND;TZID=Asia/Krasnoyarsk:20260419T130000
DTSTAMP:20260425T185413
CREATED:20260329T141635Z
LAST-MODIFIED:20260329T141635Z
UID:9226-1776596400-1776603600@timebankapp.app
SUMMARY:ดนตรีจิตอาสา
DESCRIPTION:📋 Copy Link\n    \n    \n     \nร่วมร้องเพลงบำบัดความเครียด กินอาหารครบ 5 หมู่ ส่งผลให้สุขภาพแข็งแรง
URL:https://timebankapp.app/event/%e0%b8%94%e0%b8%99%e0%b8%95%e0%b8%a3%e0%b8%b5%e0%b8%88%e0%b8%b4%e0%b8%95%e0%b8%ad%e0%b8%b2%e0%b8%aa%e0%b8%b2-2/
CATEGORIES:กิจกรรมอื่นๆ
ATTACH;FMTTYPE=image/jpeg:https://timebankapp.app/wp-content/uploads/2026/03/1000026065.jpg
END:VEVENT
BEGIN:VEVENT
DTSTART;TZID=Asia/Krasnoyarsk:20260419T090000
DTEND;TZID=Asia/Krasnoyarsk:20260419T130000
DTSTAMP:20260425T185413
CREATED:20260419T124033Z
LAST-MODIFIED:20260419T124033Z
UID:9571-1776589200-1776603600@timebankapp.app
SUMMARY:รดน้ำดำหัว สงกรานต์สืบสานประเพณีไทย
DESCRIPTION:📋 Copy Link\n    \n    \n     \nรับสมัครจิตอาสา\n– รับจำนวนจำกัด 10 – 15 คน\nรายละเอียด\n– จัดเตรียมงานรดน้ำดำหัว\n– เก็บของและทำความสะอาดบริเวณพื้นที่ทำกิจกรรม
URL:https://timebankapp.app/event/%e0%b8%a3%e0%b8%94%e0%b8%99%e0%b9%89%e0%b8%b3%e0%b8%94%e0%b8%b3%e0%b8%ab%e0%b8%b1%e0%b8%a7-%e0%b8%aa%e0%b8%87%e0%b8%81%e0%b8%a3%e0%b8%b2%e0%b8%99%e0%b8%95%e0%b9%8c%e0%b8%aa%e0%b8%b7%e0%b8%9a%e0%b8%aa/
CATEGORIES:ศิลปะ วัฒนธรรม
ATTACH;FMTTYPE=image/jpeg:https://timebankapp.app/wp-content/uploads/2026/04/3791.jpg
END:VEVENT
BEGIN:VEVENT
DTSTART;TZID=Asia/Krasnoyarsk:20260417T202300
DTEND;TZID=Asia/Krasnoyarsk:20260419T202400
DTSTAMP:20260425T185413
CREATED:20260419T124123Z
LAST-MODIFIED:20260419T124123Z
UID:9573-1776457380-1776630240@timebankapp.app
SUMMARY:รับสมัคร volunteer : อาสาสมัคร โครงการส่งเสริมความรู้ความเข้าใจที่ถูกต้องเกี่ยวกับการปกครองในระบอบประชาธิปไตย พรรครักษ์ธรรม จังหวัดกรุงเทพมหานคร
DESCRIPTION:📋 Copy Link\n    \n    \n     \n-แต่งกายสุภาพ\n-อาสาสมัครเดินทางด้วยตัวเอง\n-มีเบรคและอาหารให้จิตอาสา\n-รับจำนวน 15 คน
URL:https://timebankapp.app/event/%e0%b8%a3%e0%b8%b1%e0%b8%9a%e0%b8%aa%e0%b8%a1%e0%b8%b1%e0%b8%84%e0%b8%a3-volunteer-%e0%b8%ad%e0%b8%b2%e0%b8%aa%e0%b8%b2%e0%b8%aa%e0%b8%a1%e0%b8%b1%e0%b8%84%e0%b8%a3-%e0%b9%82%e0%b8%84%e0%b8%a3/
CATEGORIES:การศึกษา เรียนรู้ ฝึกอบรม
ATTACH;FMTTYPE=image/png:https://timebankapp.app/wp-content/uploads/2026/04/IMG_1071.png
END:VEVENT
BEGIN:VEVENT
DTSTART;TZID=Asia/Krasnoyarsk:20260417T160000
DTEND;TZID=Asia/Krasnoyarsk:20260417T180000
DTSTAMP:20260425T185413
CREATED:20260415T015410Z
LAST-MODIFIED:20260415T015410Z
UID:9495-1776441600-1776448800@timebankapp.app
SUMMARY:จิบน้ำชา ปันความรู้สู่ชุมชน
DESCRIPTION:📋 Copy Link\n    \n    \n     \nรับสมัครจิตอาสา มาแบ่งปันความรู้ประสบการณ์ด้านต่างๆ ให้กับคนรุ่นหลัง
URL:https://timebankapp.app/event/%e0%b8%88%e0%b8%b4%e0%b8%9a%e0%b8%99%e0%b9%89%e0%b8%b3%e0%b8%8a%e0%b8%b2-%e0%b8%9b%e0%b8%b1%e0%b8%99%e0%b8%84%e0%b8%a7%e0%b8%b2%e0%b8%a1%e0%b8%a3%e0%b8%b9%e0%b9%89%e0%b8%aa%e0%b8%b9%e0%b9%88%e0%b8%8a/
CATEGORIES:การศึกษา เรียนรู้ ฝึกอบรม,กิจกรรมอื่นๆ,ผู้พิการ ผู้ด้อยโอกาส ผู้สูงอายุ,เด็ก เยาวชน สตรี
ATTACH;FMTTYPE=image/jpeg:https://timebankapp.app/wp-content/uploads/2026/04/1000000683.jpg
END:VEVENT
BEGIN:VEVENT
DTSTART;TZID=Asia/Krasnoyarsk:20260415T130000
DTEND;TZID=Asia/Krasnoyarsk:20260415T160000
DTSTAMP:20260425T185413
CREATED:20260408T121327Z
LAST-MODIFIED:20260408T121327Z
UID:9400-1776258000-1776268800@timebankapp.app
SUMMARY:โครงการ ปันน้ำใจ ให้น้อง
DESCRIPTION:📋 Copy Link\n    \n    \n     \nรับสมัครจิตอาสาแจกสิ่งของให้กับหมู่บ้านซาไก (เผ่ามานิ)
URL:https://timebankapp.app/event/%e0%b9%82%e0%b8%84%e0%b8%a3%e0%b8%87%e0%b8%81%e0%b8%b2%e0%b8%a3-%e0%b8%9b%e0%b8%b1%e0%b8%99%e0%b8%99%e0%b9%89%e0%b8%b3%e0%b9%83%e0%b8%88-%e0%b9%83%e0%b8%ab%e0%b9%89%e0%b8%99%e0%b9%89%e0%b8%ad%e0%b8%87/
CATEGORIES:กิจกรรมอื่นๆ,เด็ก เยาวชน สตรี
ATTACH;FMTTYPE=image/png:https://timebankapp.app/wp-content/uploads/2026/04/ใบปลิว-กิจกรรม-อาสา-พาสเทล-น่ารัก-สีเขียว-สีสัน-A4.png
END:VEVENT
BEGIN:VEVENT
DTSTART;TZID=Asia/Krasnoyarsk:20260412T120000
DTEND;TZID=Asia/Krasnoyarsk:20260412T130000
DTSTAMP:20260425T185413
CREATED:20260408T121150Z
LAST-MODIFIED:20260408T121150Z
UID:9398-1775995200-1775998800@timebankapp.app
SUMMARY:สงกรานต์หรรษาร่วมรดน้ำดำหัว
DESCRIPTION:📋 Copy Link\n    \n    \n     \nรับสมัครจิตอาสาคอยอำนวยความสะดวกให้ผู้สูงอายุ
URL:https://timebankapp.app/event/%e0%b8%aa%e0%b8%87%e0%b8%81%e0%b8%a3%e0%b8%b2%e0%b8%99%e0%b8%95%e0%b9%8c%e0%b8%ab%e0%b8%a3%e0%b8%a3%e0%b8%a9%e0%b8%b2%e0%b8%a3%e0%b9%88%e0%b8%a7%e0%b8%a1%e0%b8%a3%e0%b8%94%e0%b8%99%e0%b9%89%e0%b8%b3/
CATEGORIES:ศิลปะ วัฒนธรรม
ATTACH;FMTTYPE=image/png:https://timebankapp.app/wp-content/uploads/2026/04/17929.png
END:VEVENT
BEGIN:VEVENT
DTSTART;TZID=Asia/Krasnoyarsk:20260412T090000
DTEND;TZID=Asia/Krasnoyarsk:20260412T160000
DTSTAMP:20260425T185413
CREATED:20260408T121059Z
LAST-MODIFIED:20260408T121059Z
UID:9396-1775984400-1776009600@timebankapp.app
SUMMARY:รับสมัครจิต อาสาช่วงกรานต์ ( มุกดาหาร)
DESCRIPTION:📋 Copy Link\n    \n    \n     \nรับสมัครจิตอาสาช่วง สงกรานต์ ( มุกดาหาร)\n1. จัดสถานที่ 2 คน\n2. วิทยากรนำสันทนาการ1 คน
URL:https://timebankapp.app/event/%e0%b8%a3%e0%b8%b1%e0%b8%9a%e0%b8%aa%e0%b8%a1%e0%b8%b1%e0%b8%84%e0%b8%a3%e0%b8%88%e0%b8%b4%e0%b8%95-%e0%b8%ad%e0%b8%b2%e0%b8%aa%e0%b8%b2%e0%b8%8a%e0%b9%88%e0%b8%a7%e0%b8%87%e0%b8%81%e0%b8%a3%e0%b8%b2/
CATEGORIES:การศึกษา เรียนรู้ ฝึกอบรม,ผู้พิการ ผู้ด้อยโอกาส ผู้สูงอายุ,ศิลปะ วัฒนธรรม,เด็ก เยาวชน สตรี
ATTACH;FMTTYPE=image/jpeg:https://timebankapp.app/wp-content/uploads/2026/04/1000027988-scaled.jpg
END:VEVENT
BEGIN:VEVENT
DTSTART;TZID=Asia/Krasnoyarsk:20260411T180000
DTEND;TZID=Asia/Krasnoyarsk:20260411T190000
DTSTAMP:20260425T185413
CREATED:20260415T015215Z
LAST-MODIFIED:20260415T015215Z
UID:9486-1775930400-1775934000@timebankapp.app
SUMMARY:big cleaningบุรีรัมย์
DESCRIPTION:📋 Copy Link\n    \n    \n     \nเป็นน้ำหนึ่งใจเดียวเสริมสร้างจิตอาสา
URL:https://timebankapp.app/event/big-cleaning%e0%b8%9a%e0%b8%b8%e0%b8%a3%e0%b8%b5%e0%b8%a3%e0%b8%b1%e0%b8%a1%e0%b8%a2%e0%b9%8c/
CATEGORIES:การศึกษา เรียนรู้ ฝึกอบรม
ATTACH;FMTTYPE=image/jpeg:https://timebankapp.app/wp-content/uploads/2026/04/3281.jpg
END:VEVENT
BEGIN:VEVENT
DTSTART;TZID=Asia/Krasnoyarsk:20260410T130300
DTEND;TZID=Asia/Krasnoyarsk:20260425T130300
DTSTAMP:20260425T185413
CREATED:20260415T015007Z
LAST-MODIFIED:20260415T015007Z
UID:9477-1775826180-1777122180@timebankapp.app
SUMMARY:รับบริจาคยาเหลือใช้ส่งต่อให้โรงพยาบาลอุ้มผาง
DESCRIPTION:📋 Copy Link\n    \n    \n     \nรับจิตอาสาเป็นเจ้าหน้าที่รับบริจาคยาจากผู้มีใจมอบยาเหลือใช้ หรือ ยาใหม่ \nวันที่เริ่มโครงการ วันศุกร์ที่ 24 เม.ย. 2569\nหน้าที่จิตอาสา\n– ประจำจุดรับบริจาคที่โต๊ะบริจาค\n– ดูวันหมดอายุของยา มีเจ้าหน้าที่ช่วยดู\n– ดูลักษณะความสมบูรณ์ของยา หรือ อุปกรณ์ทางการแพทย์ \nเสียสละเวลาเพื่อส่วนร่วมเพื่อผู้ยากไร้ และ สุขภาพของพากเขา \nสถานที่อาคาร Hope Academy Phuket\nสอบถามเพิ่มเติมได้ที่ คุณขวัญ 062-3676789
URL:https://timebankapp.app/event/%e0%b8%a3%e0%b8%b1%e0%b8%9a%e0%b8%9a%e0%b8%a3%e0%b8%b4%e0%b8%88%e0%b8%b2%e0%b8%84%e0%b8%a2%e0%b8%b2%e0%b9%80%e0%b8%ab%e0%b8%a5%e0%b8%b7%e0%b8%ad%e0%b9%83%e0%b8%8a%e0%b9%89%e0%b8%aa%e0%b9%88%e0%b8%87/
CATEGORIES:สุขภาพ สาธารณะสุข
ATTACH;FMTTYPE=image/jpeg:https://timebankapp.app/wp-content/uploads/2026/04/1000038493.jpg
END:VEVENT
BEGIN:VEVENT
DTSTART;TZID=Asia/Krasnoyarsk:20260409T150000
DTEND;TZID=Asia/Krasnoyarsk:20260409T190000
DTSTAMP:20260425T185413
CREATED:20260326T144245Z
LAST-MODIFIED:20260326T144245Z
UID:9184-1775746800-1775761200@timebankapp.app
SUMMARY:เปลี่ยนปิงให้ปัง
DESCRIPTION:📋 Copy Link\n    \n    \n     \nขอเชิญร่วมกิจกรรม “เปลียนปิง ให้ปัง” ในวันที่ 9 เมษายน 2569 เวลา 15.00 น. เป็นต้นไป ณ บริเวณริมแม่น้ำปิงหน้าโรงเรียนอนุบาลนครสวรรค์ สอบถามเพิ่มเติม คุณกร0898270274
URL:https://timebankapp.app/event/%e0%b9%80%e0%b8%9b%e0%b8%a5%e0%b8%b5%e0%b9%88%e0%b8%a2%e0%b8%99%e0%b8%9b%e0%b8%b4%e0%b8%87%e0%b9%83%e0%b8%ab%e0%b9%89%e0%b8%9b%e0%b8%b1%e0%b8%87/
CATEGORIES:ธรรมชาติ สิ่งแวดล้อม
ATTACH;FMTTYPE=image/png:https://timebankapp.app/wp-content/uploads/2026/03/674.png
END:VEVENT
BEGIN:VEVENT
DTSTART;TZID=Asia/Krasnoyarsk:20260406T170000
DTEND;TZID=Asia/Krasnoyarsk:20260411T180000
DTSTAMP:20260425T185413
CREATED:20260408T121009Z
LAST-MODIFIED:20260408T121009Z
UID:9387-1775494800-1775930400@timebankapp.app
SUMMARY:รับอาสาสมัคร ร้อยพวงมาลัย
DESCRIPTION:📋 Copy Link\n    \n    \n     \nขอจิตอาสาช่วยร้อยพวงมาลัย ใช้ในงานเทศกาลสงกรานต์ เพื่อเป็นกำลังใจ ส่งผ่านความรัก ความห่วงใย ให้กับผู้สูงอายุ..
URL:https://timebankapp.app/event/%e0%b8%a3%e0%b8%b1%e0%b8%9a%e0%b8%ad%e0%b8%b2%e0%b8%aa%e0%b8%b2%e0%b8%aa%e0%b8%a1%e0%b8%b1%e0%b8%84%e0%b8%a3-%e0%b8%a3%e0%b9%89%e0%b8%ad%e0%b8%a2%e0%b8%9e%e0%b8%a7%e0%b8%87%e0%b8%a1%e0%b8%b2%e0%b8%a5/
CATEGORIES:ศิลปะ วัฒนธรรม
ATTACH;FMTTYPE=image/png:https://timebankapp.app/wp-content/uploads/2026/04/1000039703.png
END:VEVENT
BEGIN:VEVENT
DTSTART;TZID=Asia/Krasnoyarsk:20260403T163000
DTEND;TZID=Asia/Krasnoyarsk:20260403T200000
DTSTAMP:20260425T185413
CREATED:20260331T031202Z
LAST-MODIFIED:20260331T031202Z
UID:9286-1775233800-1775246400@timebankapp.app
SUMMARY:โครงการออกกำลังกายด้วยกิจกรรมไลน์แดนซ์
DESCRIPTION:📋 Copy Link\n    \n    \n     \nเป็นการออกกำลังกายในรูปแบบใหม่ๆ
URL:https://timebankapp.app/event/%e0%b9%82%e0%b8%84%e0%b8%a3%e0%b8%87%e0%b8%81%e0%b8%b2%e0%b8%a3%e0%b8%ad%e0%b8%ad%e0%b8%81%e0%b8%81%e0%b8%b3%e0%b8%a5%e0%b8%b1%e0%b8%87%e0%b8%81%e0%b8%b2%e0%b8%a2%e0%b8%94%e0%b9%89%e0%b8%a7%e0%b8%a2/
CATEGORIES:การศึกษา เรียนรู้ ฝึกอบรม
ATTACH;FMTTYPE=image/jpeg:https://timebankapp.app/wp-content/uploads/2026/03/17283.jpg
END:VEVENT
BEGIN:VEVENT
DTSTART;TZID=Asia/Krasnoyarsk:20260403T070000
DTEND;TZID=Asia/Krasnoyarsk:20260403T120000
DTSTAMP:20260425T185413
CREATED:20260318T143617Z
LAST-MODIFIED:20260318T143617Z
UID:9077-1775199600-1775217600@timebankapp.app
SUMMARY:จิตอาสาโครงการตรวจสุขภาพ
DESCRIPTION:📋 Copy Link\n    \n    \n     \nเปิดรับอาสาสมัคร!\nร่วมเป็นส่วนหนึ่งของโครงการ\n“ตรวจสุขภาพ 1 ล้านคน”\nโครงการรับสมัครจิตอาสาเพื่อสนับสนุน\nภารกิจตรวจสุขภาพประชาขน 1 ล้านคน\nโดยมุ่งเน้นการอำนวยความสะดวกให้แก่ผู้สูงอายุและจัดการข้อมูลเบื้องต้น\nครอบคลุบพื้นที่ชุมชนและศูนย์บริการ\nสาธารณสุขในช่วงเดือนเมษายนถึง\nสิงหาคม พ.ศ. 2569\nหน้าที่สำคัญของจิตอาสา\nช่วยเหลือผู้สูงอายุ\nและกรอกข้อมูล\nอำนวยความสะดวกใน\nการบันทึกข้อมูลและดูแล\nผู้สูงอายุระหว่างรับบริการ\nสันทนาการสร้าง\nความผ่อนคลาย\nจัดกิจกรรมสันทนาการ\nเพื่อสร้างความผ่อนคลาย\nให้กับผู้เข้ารับการ\nตรวจสุขภาพ\nเวลาปฏิบัติงาน\n07.00 – 12.00 ม.\nกำหนดการและช่องทางการสมัคร\nระยะเวลาโครงการ\nเม.ย. – ส.ค. 69\nกิจกรรมจัดขึ้นตามวัน\nและสถานที่ที่กำหนด\nในแต่ละเดือน\nสมัครผ่านช่องทาง\nhttps://forms.gle/HRyvDe6Jes6qCug86
URL:https://timebankapp.app/event/%e0%b8%88%e0%b8%b4%e0%b8%95%e0%b8%ad%e0%b8%b2%e0%b8%aa%e0%b8%b2%e0%b9%82%e0%b8%84%e0%b8%a3%e0%b8%87%e0%b8%81%e0%b8%b2%e0%b8%a3%e0%b8%95%e0%b8%a3%e0%b8%a7%e0%b8%88%e0%b8%aa%e0%b8%b8%e0%b8%82%e0%b8%a0/
CATEGORIES:ผู้พิการ ผู้ด้อยโอกาส ผู้สูงอายุ,สุขภาพ สาธารณะสุข
ATTACH;FMTTYPE=image/jpeg:https://timebankapp.app/wp-content/uploads/2026/03/1000065248.jpg
END:VEVENT
BEGIN:VEVENT
DTSTART;TZID=Asia/Krasnoyarsk:20260402T171200
DTEND;TZID=Asia/Krasnoyarsk:20260402T211600
DTSTAMP:20260425T185413
CREATED:20260402T101930Z
LAST-MODIFIED:20260402T101930Z
UID:9321-1775149920-1775164560@timebankapp.app
SUMMARY:ทดสอบ
DESCRIPTION:ทดสอบ
URL:https://timebankapp.app/event/%e0%b8%97%e0%b8%94%e0%b8%aa%e0%b8%ad%e0%b8%9a/
CATEGORIES:การศึกษา เรียนรู้ ฝึกอบรม,ผู้พิการ ผู้ด้อยโอกาส ผู้สูงอายุ
ATTACH;FMTTYPE=image/png:https://timebankapp.app/wp-content/uploads/2026/04/screencapture-wpbeaverbuilder-checkout-2026-02-10-07_46_05.png
END:VEVENT
BEGIN:VEVENT
DTSTART;TZID=Asia/Krasnoyarsk:20260401T184400
DTEND;TZID=Asia/Krasnoyarsk:20260401T184500
DTSTAMP:20260425T185413
CREATED:20260316T152446Z
LAST-MODIFIED:20260316T152446Z
UID:8976-1775069040-1775069100@timebankapp.app
SUMMARY:ลีลาศเพื่อสุขภาพ
DESCRIPTION:📋 Copy Link\n    \n    \n     \nรับสมัครจิตอาสามาฝึกเต้นลีลาศ
URL:https://timebankapp.app/event/%e0%b8%a5%e0%b8%b5%e0%b8%a5%e0%b8%b2%e0%b8%a8%e0%b9%80%e0%b8%9e%e0%b8%b7%e0%b9%88%e0%b8%ad%e0%b8%aa%e0%b8%b8%e0%b8%82%e0%b8%a0%e0%b8%b2%e0%b8%9e/
CATEGORIES:สุขภาพ สาธารณะสุข
ATTACH;FMTTYPE=image/jpeg:https://timebankapp.app/wp-content/uploads/2026/03/13433.jpg
END:VEVENT
BEGIN:VEVENT
DTSTART;TZID=Asia/Krasnoyarsk:20260401T000700
DTEND;TZID=Asia/Krasnoyarsk:20260420T000700
DTSTAMP:20260425T185413
CREATED:20260408T121506Z
LAST-MODIFIED:20260425T115331Z
UID:9392-1775002020-1776643620@timebankapp.app
SUMMARY:นักธุรกิจจิตอาสาเพื่อชุมชมทุกวันอังคาร(Business Matching Day)
DESCRIPTION:📋 Copy Link\n    \n    \n     \nHBS นักธุรกิจเพื่อชุมชน เรามีการจัดสัมนา บรรยาย เชิงสร้างสรรค์ การออกแบบ\nด้วยศาสตร์ 4DNA นวัตกรรมต่างๆ ในธุรกิจการก่อสร้าง อสังหาริมทรัพย์ เพื่อ\nเป็นการให้ความรู้แก่นักธุรกิจที่สนใจเพื่อพัฒนาศักยภาพขององค์กร เพื่อเป็นคุณ\nประโยชน์ต่อส่วนรวม โดยไม่หวังผลกำไร เพื่อให้สังคมน่าอยู่อย่างยั่งยืน
URL:https://timebankapp.app/event/%e0%b8%99%e0%b8%b1%e0%b8%81%e0%b8%98%e0%b8%b8%e0%b8%a3%e0%b8%81%e0%b8%b4%e0%b8%88%e0%b8%88%e0%b8%b4%e0%b8%95%e0%b8%ad%e0%b8%b2%e0%b8%aa%e0%b8%b2%e0%b9%80%e0%b8%9e%e0%b8%b7%e0%b9%88%e0%b8%ad%e0%b8%8a-3/
CATEGORIES:การศึกษา เรียนรู้ ฝึกอบรม
ATTACH;FMTTYPE=image/png:https://timebankapp.app/wp-content/uploads/2026/04/สัมนาพลิกชีวิต-3-scaled.png
END:VEVENT
BEGIN:VEVENT
DTSTART;TZID=Asia/Krasnoyarsk:20260330T070000
DTEND;TZID=Asia/Krasnoyarsk:20260330T120000
DTSTAMP:20260425T185413
CREATED:20260329T141248Z
LAST-MODIFIED:20260329T141248Z
UID:9238-1774854000-1774872000@timebankapp.app
SUMMARY:โครงการตรวจสุขภาพปอด
DESCRIPTION:📋 Copy Link\n    \n    \n     \nกลุ่ม Take care for Health รับสมัครจิตอาสา ร่วมกิจกรรม โครงการตรวจสุขภาพปอด
URL:https://timebankapp.app/event/%e0%b9%82%e0%b8%84%e0%b8%a3%e0%b8%87%e0%b8%81%e0%b8%b2%e0%b8%a3%e0%b8%95%e0%b8%a3%e0%b8%a7%e0%b8%88%e0%b8%aa%e0%b8%b8%e0%b8%82%e0%b8%a0%e0%b8%b2%e0%b8%9e%e0%b8%9b%e0%b8%ad%e0%b8%94/
CATEGORIES:ผู้พิการ ผู้ด้อยโอกาส ผู้สูงอายุ,สุขภาพ สาธารณะสุข
ATTACH;FMTTYPE=image/jpeg:https://timebankapp.app/wp-content/uploads/2026/03/1000065762.jpg
END:VEVENT
BEGIN:VEVENT
DTSTART;TZID=Asia/Krasnoyarsk:20260329T133000
DTEND;TZID=Asia/Krasnoyarsk:20260329T143000
DTSTAMP:20260425T185413
CREATED:20260329T141212Z
LAST-MODIFIED:20260329T141212Z
UID:9234-1774791000-1774794600@timebankapp.app
SUMMARY:ร้อยรัก ร้อยใจ มอบให้ผู้สูงวัย
DESCRIPTION:📋 Copy Link\n    \n    \n     \n🌸 ร้อยรัก ร้อยใจ มอบให้ผู้สูงวัย 🌸\n“พวงมาลัยเล็ก ๆ จากใจ แทนความรัก ความห่วงใยที่ยิ่งใหญ่” \nมูลนิธิโฮป อะคาเดมี่ ขอเชิญทุกท่านร่วมกิจกรรมดี ๆ มาร่วมร้อยพวงมาลัยดอกรัก เพื่อส่งต่อความรักและรอยยิ้มให้ผู้สูงวัยในเทศกาลสงกรานต์ \nรับอาสาสมัคร ร้อยพวงมาลัย\n(!)ไม่จำกัดจำนวน \n🗓 วันอาทิตย์ที่ 29 มีนาคม 2026\n⏰ เวลา 13:30 – 14:30 น.\n📍 ณ โรงแรมครอสไวบ์ กรุงเทพ ศรีนครินทร์ (ซอยศรีนครินทร์ 40)
URL:https://timebankapp.app/event/%e0%b8%a3%e0%b9%89%e0%b8%ad%e0%b8%a2%e0%b8%a3%e0%b8%b1%e0%b8%81-%e0%b8%a3%e0%b9%89%e0%b8%ad%e0%b8%a2%e0%b9%83%e0%b8%88-%e0%b8%a1%e0%b8%ad%e0%b8%9a%e0%b9%83%e0%b8%ab%e0%b9%89%e0%b8%9c%e0%b8%b9%e0%b9%89/
CATEGORIES:ธรรมชาติ สิ่งแวดล้อม,ศิลปะ วัฒนธรรม,เด็ก เยาวชน สตรี
ATTACH;FMTTYPE=image/jpeg:https://timebankapp.app/wp-content/uploads/2026/03/IMG_1245.jpeg
END:VEVENT
BEGIN:VEVENT
DTSTART;TZID=Asia/Krasnoyarsk:20260329T123000
DTEND;TZID=Asia/Krasnoyarsk:20260329T143000
DTSTAMP:20260425T185413
CREATED:20260314T162519Z
LAST-MODIFIED:20260315T011035Z
UID:8880-1774787400-1774794600@timebankapp.app
SUMMARY:“ทำมือด้วยรัก ส่งต่อด้วยหัวใจ”
DESCRIPTION:📋 Copy Link\n    \n    \n     \n“ทำมือด้วยรัก ส่งต่อด้วยหัวใจ”\nมาร่วมกันใช้เวลาวันหยุดสร้างรอยยิ้มให้ผู้อื่น\nผ่านกิจกรรมง่าย ๆ ที่เต็มไปด้วยความหมาย\n🧸 ทำตุ๊กตาทำมือเพื่อน้อง\n💌 เขียนการ์ดส่งกำลังใจ “สู่คนหลังกำแพง”\nเพราะการกระทำเล็ก ๆ ของเรา\nอาจกลายเป็นกำลังใจใหญ่สำหรับใครบางคน ❤️\n📅 วันอาทิตย์ ที่ 29 มีนาคม 2569\n⏰ เวลา 12.30 – 14.30 น.\n📍 โรงแรม Cross Vibe Bangkok Srinakarin\nซอยศรีนครินทร์ 40 เขตประเวศ กรุงเทพมหานคร\n💡 เข้าร่วมฟรี\n📜 ผู้เข้าร่วมจะได้รับ เกียรติบัตรจิตอาสา\n📌 ผู้เข้าร่วม เตรียมถุงเท้าใหม่อย่างน้อย 2 คู่\nเพื่อนำมาทำตุ๊กตาทำมือเพื่อน้อง\n📚 การ์ดที่เขียนจะถูกนำไปมอบเป็นกำลังใจให้ผู้ต้องขัง\nณ เรือนจำจังหวัดฉะเชิงเทรา\n👉 ลงทะเบียนเข้าร่วมกิจกรรมได้ที่ QR Code ในภาพ\nhttps://forms.gle/zrRozE5YY7ovnqhJ8\nหรือสอบถามเพิ่มเติมทาง Facebook เพจ “อาสาทำดี”\nhttps://www.facebook.com/profile.php?id=61579626689564\nสถานที่จัดกิจกรรม\nhttps://maps.app.goo.gl/TV815FhPXxNF4ysPA\nมาร่วมกันทำให้โลกใบนี้อุ่นขึ้นอีกนิด\nด้วยหัวใจของ “อาสาทำดี” 🤝✨\n#อาสาทำดี\n#ทำมือด้วยรักส่งต่อด้วยหัวใจ\n#จิตอาสา\n#ส่งกำลังใจให้กัน
URL:https://timebankapp.app/event/%e0%b8%97%e0%b8%b3%e0%b8%a1%e0%b8%b7%e0%b8%ad%e0%b8%94%e0%b9%89%e0%b8%a7%e0%b8%a2%e0%b8%a3%e0%b8%b1%e0%b8%81-%e0%b8%aa%e0%b9%88%e0%b8%87%e0%b8%95%e0%b9%88%e0%b8%ad%e0%b8%94%e0%b9%89%e0%b8%a7-2/
CATEGORIES:ผู้พิการ ผู้ด้อยโอกาส ผู้สูงอายุ,เด็ก เยาวชน สตรี
ATTACH;FMTTYPE=image/png:https://timebankapp.app/wp-content/uploads/2026/03/อาสาทำตุ๊กตาทำมือ-2.png
END:VEVENT
BEGIN:VEVENT
DTSTART;TZID=Asia/Krasnoyarsk:20260329T120000
DTEND;TZID=Asia/Krasnoyarsk:20260329T153000
DTSTAMP:20260425T185413
CREATED:20260314T162951Z
LAST-MODIFIED:20260315T011014Z
UID:8842-1774785600-1774798200@timebankapp.app
SUMMARY:รับอาสาสมัคร ร่วมจัดกิจกรรมเพื่อผู้สูงอายุ Senior Gentleman & Lady
DESCRIPTION:📋 Copy Link\n    \n    \n     \n📌 ประเภทกิจกรรมรับสมัคร\n(สามารถเลือกได้ตามความถนัด/ความชอบ\n– งานทะเบียน\n– งานมีเดีย\n– งานโปรแกรม\n– งานกิจกรรมพิเศษ (สันทนาการ)\n– งานสวัสดิการ \n📌 คุณสมบัติ\nทุกเพศ ทุกวัย ที่มีหัวใจอาสาดูแลผู้สูงอายุ\nมีพลัง และยินดีเรียนรู้สิ่งใหม่ \n📌 วัน-เวลา สถานที่จัดกิจกรรม\n– วันอาทิตย์ที่ 29 มีนาคม 2026\n– เวลา : 12.00 – 15.30 น.\n– สถานที่ : แพทยสมาคมแห่งประเทศไทย (ซ.เพชรบุรี 47)
URL:https://timebankapp.app/event/%e0%b8%a3%e0%b8%b1%e0%b8%9a%e0%b8%ad%e0%b8%b2%e0%b8%aa%e0%b8%b2%e0%b8%aa%e0%b8%a1%e0%b8%b1%e0%b8%84%e0%b8%a3-%e0%b8%a3%e0%b9%88%e0%b8%a7%e0%b8%a1%e0%b8%88%e0%b8%b1%e0%b8%94%e0%b8%81%e0%b8%b4%e0%b8%88/
CATEGORIES:การศึกษา เรียนรู้ ฝึกอบรม,กิจกรรมอื่นๆ,ผู้พิการ ผู้ด้อยโอกาส ผู้สูงอายุ,สุขภาพ สาธารณะสุข
ATTACH;FMTTYPE=image/jpeg:https://timebankapp.app/wp-content/uploads/2026/03/รับสมัครจิตอาสา-1.jpeg
END:VEVENT
BEGIN:VEVENT
DTSTART;TZID=Asia/Krasnoyarsk:20260328T170000
DTEND;TZID=Asia/Krasnoyarsk:20260328T190000
DTSTAMP:20260425T185413
CREATED:20260329T141133Z
LAST-MODIFIED:20260329T141133Z
UID:9228-1774717200-1774724400@timebankapp.app
SUMMARY:BigCLEANING
DESCRIPTION:📋 Copy Link\n    \n    \n     \nห้องสอนดนตรีเพื่อเยาวชนจังหวัดบุรีรัมย์
URL:https://timebankapp.app/event/bigcleaning-2/
CATEGORIES:การศึกษา เรียนรู้ ฝึกอบรม
ATTACH;FMTTYPE=image/jpeg:https://timebankapp.app/wp-content/uploads/2026/03/3281.jpg
END:VEVENT
BEGIN:VEVENT
DTSTART;TZID=Asia/Krasnoyarsk:20260322T204200
DTEND;TZID=Asia/Krasnoyarsk:20260322T204300
DTSTAMP:20260425T185413
CREATED:20260303T143521Z
LAST-MODIFIED:20260303T143521Z
UID:8563-1774212120-1774212180@timebankapp.app
SUMMARY:เปิดรับอาสาสมัครโครงการเยาวชนนาอุดม ลดอุบัติเหตุ
DESCRIPTION:📋 Copy Link\n    \n    \n     \nเปิดรับ\n1. วิทยากร 1 คน\n2.หัวหน้าฐานท4 คน\n3.แม่ครัว 1 คน
URL:https://timebankapp.app/event/%e0%b9%80%e0%b8%9b%e0%b8%b4%e0%b8%94%e0%b8%a3%e0%b8%b1%e0%b8%9a%e0%b8%ad%e0%b8%b2%e0%b8%aa%e0%b8%b2%e0%b8%aa%e0%b8%a1%e0%b8%b1%e0%b8%84%e0%b8%a3%e0%b9%82%e0%b8%84%e0%b8%a3%e0%b8%87%e0%b8%81%e0%b8%b2/
CATEGORIES:การศึกษา เรียนรู้ ฝึกอบรม,เด็ก เยาวชน สตรี
ATTACH;FMTTYPE=image/jpeg:https://timebankapp.app/wp-content/uploads/2026/03/1000026754.jpg
END:VEVENT
BEGIN:VEVENT
DTSTART;TZID=Asia/Krasnoyarsk:20260322T171800
DTEND;TZID=Asia/Krasnoyarsk:20260322T171800
DTSTAMP:20260425T185413
CREATED:20260318T020354Z
LAST-MODIFIED:20260318T020354Z
UID:9047-1774199880-1774199880@timebankapp.app
SUMMARY:big cleaningจ.บุรีรัมย์
DESCRIPTION:📋 Copy Link\n    \n    \n     \nเพือสร้างพื้นที่สะอาดในห้องสอนดนตรี
URL:https://timebankapp.app/event/big-cleaning%e0%b8%88-%e0%b8%9a%e0%b8%b8%e0%b8%a3%e0%b8%b5%e0%b8%a3%e0%b8%b1%e0%b8%a1%e0%b8%a2%e0%b9%8c/
CATEGORIES:การศึกษา เรียนรู้ ฝึกอบรม
ATTACH;FMTTYPE=image/jpeg:https://timebankapp.app/wp-content/uploads/2026/03/2648.jpg
END:VEVENT
BEGIN:VEVENT
DTSTART;TZID=Asia/Krasnoyarsk:20260322T160100
DTEND;TZID=Asia/Krasnoyarsk:20260322T192000
DTSTAMP:20260425T185413
CREATED:20260318T143708Z
LAST-MODIFIED:20260318T143708Z
UID:9079-1774195260-1774207200@timebankapp.app
SUMMARY:ให้ความรู้แก่ผู้สูงวัยเรื่องการดูแลสุขภาพ
DESCRIPTION:📋 Copy Link\n    \n    \n     \nให้ความรู้เรื่องออกกำลังกาย อาหาร ที่ทำให้สุขภาพแข็งแรง
URL:https://timebankapp.app/event/%e0%b9%83%e0%b8%ab%e0%b9%89%e0%b8%84%e0%b8%a7%e0%b8%b2%e0%b8%a1%e0%b8%a3%e0%b8%b9%e0%b9%89%e0%b9%81%e0%b8%81%e0%b9%88%e0%b8%9c%e0%b8%b9%e0%b9%89%e0%b8%aa%e0%b8%b9%e0%b8%87%e0%b8%a7%e0%b8%b1%e0%b8%a2/
CATEGORIES:การศึกษา เรียนรู้ ฝึกอบรม,ผู้พิการ ผู้ด้อยโอกาส ผู้สูงอายุ
ATTACH;FMTTYPE=image/jpeg:https://timebankapp.app/wp-content/uploads/2026/03/13473.jpg
END:VEVENT
BEGIN:VEVENT
DTSTART;TZID=Asia/Krasnoyarsk:20260322T140000
DTEND;TZID=Asia/Krasnoyarsk:20260322T140000
DTSTAMP:20260425T185413
CREATED:20260326T143501Z
LAST-MODIFIED:20260326T143501Z
UID:9124-1774188000-1774188000@timebankapp.app
SUMMARY:สร้างสุข-ผู้สูงอายุ
DESCRIPTION:📋 Copy Link\n    \n    \n     \nนำกิจกรรมผู้สูงอายุกองทุนเวลาเพื่อสังคม
URL:https://timebankapp.app/event/%e0%b8%aa%e0%b8%a3%e0%b9%89%e0%b8%b2%e0%b8%87%e0%b8%aa%e0%b8%b8%e0%b8%82-%e0%b8%9c%e0%b8%b9%e0%b9%89%e0%b8%aa%e0%b8%b9%e0%b8%87%e0%b8%ad%e0%b8%b2%e0%b8%a2%e0%b8%b8/
CATEGORIES:ผู้พิการ ผู้ด้อยโอกาส ผู้สูงอายุ
ATTACH;FMTTYPE=image/jpeg:https://timebankapp.app/wp-content/uploads/2026/03/3236.jpg
END:VEVENT
BEGIN:VEVENT
DTSTART;TZID=Asia/Krasnoyarsk:20260322T083000
DTEND;TZID=Asia/Krasnoyarsk:20260322T183000
DTSTAMP:20260425T185413
CREATED:20260314T162422Z
LAST-MODIFIED:20260315T011010Z
UID:8889-1774168200-1774204200@timebankapp.app
SUMMARY:SUNDAY SCHOOL
DESCRIPTION:📋 Copy Link\n    \n    \n     \nลักษณะงานอาสาสมัคร\nจัดเตรียมสถานที่และวัสดุอุปกรณ์\nㆍ เล่นกิจกรรมกับเด็กๆ\nㆍช่วยจัดเตรียมอาหาร และ อื่นๆ\nเราเปิดรับบริจาคอะไรบ้าง ?\nㆍ หมวดอุปกรณ์ทำกิจกรรมและศิลปะ\nหมวดอาหารและของว่าง\nㆍ หมวดของรางวัลแจกเด็กๆ\nㆍ หมวดสุขอนามัย
URL:https://timebankapp.app/event/sunday-school-4/
CATEGORIES:การศึกษา เรียนรู้ ฝึกอบรม,เด็ก เยาวชน สตรี
ATTACH;FMTTYPE=image/jpeg:https://timebankapp.app/wp-content/uploads/2026/03/S__13361375.jpg
END:VEVENT
BEGIN:VEVENT
DTSTART;TZID=Asia/Krasnoyarsk:20260322T073000
DTEND;TZID=Asia/Krasnoyarsk:20260322T150100
DTSTAMP:20260425T185413
CREATED:20260326T143415Z
LAST-MODIFIED:20260326T143415Z
UID:9119-1774164600-1774191660@timebankapp.app
SUMMARY:รักสุขภาพ รักชุมชน
DESCRIPTION:📋 Copy Link\n    \n    \n     \nเปิดรับอาสาสมัคร\nโครงการรักสุขภาพ รักชุมชน \nวันอาทิตย์ที่ 22 มีนาคม 2569\nเริ่มกิจกรรมตั้งแต่เวลา\n07.30 – 12.00 น. \nภารกิจหลักของอาสาสมัคร\nรายละเอียดกิจกรรม\nและ\nการจัดการงานเอกสาร\nสนับสนุนการดูแลและจัดระเมียบ\nข้อมูลเอกสารต่างๆ ในโครงการ \nการอำนวยความสะดวกแก่ผู้สูงอายุ\nช่วยเหลือและดูแลผู้สูงอายุที่เข้าร่วม\nโครงการให้ได้รับความสะดวกสบาย\nโรงแรมคอสไวบ์\nศรีนครินทร์ 40\nสถานที่จัดกิจกรรมหลักสำหรับ\nอาสาสมัครและชุมชน\nกิจกรรมสันทนาการสร้างความบันเทิง\nสร้างความสุขผ่านกิจกรรมนันทนาการ\nที่หลากหล่ายให้กับสมาชิกในชุมชน\nติดต่อสอบถาม: คุณแอ้\nโทร. 062-989-2617\nหรือสมัครเข้าร่วมโกรงการได้โดยตรง\nผ่าน QR Code
URL:https://timebankapp.app/event/%e0%b8%a3%e0%b8%b1%e0%b8%81%e0%b8%aa%e0%b8%b8%e0%b8%82%e0%b8%a0%e0%b8%b2%e0%b8%9e-%e0%b8%a3%e0%b8%b1%e0%b8%81%e0%b8%8a%e0%b8%b8%e0%b8%a1%e0%b8%8a%e0%b8%99/
CATEGORIES:ผู้พิการ ผู้ด้อยโอกาส ผู้สูงอายุ,สุขภาพ สาธารณะสุข,เด็ก เยาวชน สตรี
ATTACH;FMTTYPE=image/jpeg:https://timebankapp.app/wp-content/uploads/2026/03/1000065359.jpg
END:VEVENT
BEGIN:VEVENT
DTSTART;TZID=Asia/Krasnoyarsk:20260320T160000
DTEND;TZID=Asia/Krasnoyarsk:20260403T180000
DTSTAMP:20260425T185413
CREATED:20260224T153744Z
LAST-MODIFIED:20260224T153744Z
UID:8056-1774022400-1775239200@timebankapp.app
SUMMARY:Volunteer จัดการประชุม
DESCRIPTION:📋 Copy Link\n    \n    \n     \nจัดการประชุม\nบันทึกการประชุม\nมีโน้ตบุ๊คส่วนตัว\nMicrosoft พื้นฐาน
URL:https://timebankapp.app/event/volunteer-%e0%b8%88%e0%b8%b1%e0%b8%94%e0%b8%81%e0%b8%b2%e0%b8%a3%e0%b8%9b%e0%b8%a3%e0%b8%b0%e0%b8%8a%e0%b8%b8%e0%b8%a1/
CATEGORIES:การศึกษา เรียนรู้ ฝึกอบรม
ATTACH;FMTTYPE=image/jpeg:https://timebankapp.app/wp-content/uploads/2026/02/1771571280139.jpg
END:VEVENT
BEGIN:VEVENT
DTSTART;TZID=Asia/Krasnoyarsk:20260320T090000
DTEND;TZID=Asia/Krasnoyarsk:20260402T050200
DTSTAMP:20260425T185413
CREATED:20260317T031521Z
LAST-MODIFIED:20260317T031521Z
UID:8993-1773997200-1775106120@timebankapp.app
SUMMARY:BMWอยุธยา:พัฒนาห้องเรียนเด็กที่มีความต้องการพิเศษ
DESCRIPTION:📋 Copy Link\n    \n    \n     \nรับสมัครอาสา จำนวน 20คน พัฒนาห้องเรียนเด็กที่มีความต้องการพิเศษ ณ โรงเรียนวิเศษชัยชาญวิทยาคม จังหวัดอ่างทอง\nครั้งที่ 1 วันที่ 20 มีนาคม 2569\nครั้งที่ 2 วันที่ 31 มีนาคม 2569\nลักษณะงาน\n1. ทาสีห้องเรียน\n2.สวัสดิการอาหารเครื่องดื่ม\n3. ถ่ายภาพกิจกรรม\nสนใจติดต่อสอบถามเพิ่มเติม 0813717011 คุณอมรพรรณ (กุ้ง)\nฟรี อาหาร และเครื่องดื่ม
URL:https://timebankapp.app/event/bmw%e0%b8%ad%e0%b8%a2%e0%b8%b8%e0%b8%98%e0%b8%a2%e0%b8%b2%e0%b8%9e%e0%b8%b1%e0%b8%92%e0%b8%99%e0%b8%b2%e0%b8%ab%e0%b9%89%e0%b8%ad%e0%b8%87%e0%b9%80%e0%b8%a3%e0%b8%b5%e0%b8%a2%e0%b8%99%e0%b9%80/
CATEGORIES:การศึกษา เรียนรู้ ฝึกอบรม,ผู้พิการ ผู้ด้อยโอกาส ผู้สูงอายุ
ATTACH;FMTTYPE=image/jpeg:https://timebankapp.app/wp-content/uploads/2026/03/7842.jpg
END:VEVENT
END:VCALENDAR